BEGIN:VCALENDAR
VERSION:2.0
PRODID:-//Diane Wittry, Conductor - ECPv6.15.20//NONSGML v1.0//EN
CALSCALE:GREGORIAN
METHOD:PUBLISH
X-ORIGINAL-URL:https://dianewittry.com
X-WR-CALDESC:Events for Diane Wittry, Conductor
REFRESH-INTERVAL;VALUE=DURATION:PT1H
X-Robots-Tag:noindex
X-PUBLISHED-TTL:PT1H
BEGIN:VTIMEZONE
TZID:America/New_York
BEGIN:DAYLIGHT
TZOFFSETFROM:-0500
TZOFFSETTO:-0400
TZNAME:EDT
DTSTART:20250309T070000
END:DAYLIGHT
BEGIN:STANDARD
TZOFFSETFROM:-0400
TZOFFSETTO:-0500
TZNAME:EST
DTSTART:20251102T060000
END:STANDARD
BEGIN:DAYLIGHT
TZOFFSETFROM:-0500
TZOFFSETTO:-0400
TZNAME:EDT
DTSTART:20260308T070000
END:DAYLIGHT
BEGIN:STANDARD
TZOFFSETFROM:-0400
TZOFFSETTO:-0500
TZNAME:EST
DTSTART:20261101T060000
END:STANDARD
BEGIN:DAYLIGHT
TZOFFSETFROM:-0500
TZOFFSETTO:-0400
TZNAME:EDT
DTSTART:20270314T070000
END:DAYLIGHT
BEGIN:STANDARD
TZOFFSETFROM:-0400
TZOFFSETTO:-0500
TZNAME:EST
DTSTART:20271107T060000
END:STANDARD
END:VTIMEZONE
BEGIN:VEVENT
DTSTART;TZID=America/New_York:20260214T193000
DTEND;TZID=America/New_York:20260214T213000
DTSTAMP:20260423T215538
CREATED:20250715T175117Z
LAST-MODIFIED:20250715T175117Z
UID:1952-1771097400-1771104600@dianewittry.com
SUMMARY:ASO Classical 3 - Emanuel Ax plays Beethoven
DESCRIPTION:Allentown Symphony Orchestra\nDiane Wittry\, Conductor\nEmanuel Ax\, Piano \nLudwig van Beethoven\nPiano Concerto No.  5 “Emperor”\nSergei Rachmaninoff\nSymphony No. 2
URL:https://dianewittry.com/event/aso-classical-3-emanuel-ax-plays-beethoven/
LOCATION:Allentown Symphony – Miller Symphony Hall\, 23 N. 6th Street\, Allentown\, PA\, 18103\, United States
ORGANIZER;CN="Allentown Symphony Orchestra":MAILTO:info@allentownsymphony.org
END:VEVENT
BEGIN:VEVENT
DTSTART;TZID=America/New_York:20260215T140000
DTEND;TZID=America/New_York:20260215T160000
DTSTAMP:20260423T215538
CREATED:20241116T215553Z
LAST-MODIFIED:20250715T174953Z
UID:1780-1771164000-1771171200@dianewittry.com
SUMMARY:ASO Classical 3 - Emanuel Ax plays Beethoven
DESCRIPTION:Allentown Symphony Orchestra\nDiane Wittry\, Conductor\nEmanuel Ax\, Piano \nLudwig van Beethoven\nPiano Concerto No.  5 “Emperor”\nSergei Rachmaninoff\nSymphony No. 2
URL:https://dianewittry.com/event/aso-classical-3-2/
LOCATION:Allentown Symphony – Miller Symphony Hall\, 23 N. 6th Street\, Allentown\, PA\, 18103\, United States
ORGANIZER;CN="Allentown Symphony Orchestra":MAILTO:info@allentownsymphony.org
END:VEVENT
BEGIN:VEVENT
DTSTART;VALUE=DATE:20260301
DTEND;VALUE=DATE:20260302
DTSTAMP:20260423T215538
CREATED:20241116T222819Z
LAST-MODIFIED:20241116T222819Z
UID:1806-1772323200-1772409599@dianewittry.com
SUMMARY:CODA Conference
DESCRIPTION:
URL:https://dianewittry.com/event/coda-conference/
LOCATION:Allentown Symphony – Miller Symphony Hall\, 23 N. 6th Street\, Allentown\, PA\, 18103\, United States
ORGANIZER;CN="Allentown Symphony Orchestra":MAILTO:info@allentownsymphony.org
END:VEVENT
BEGIN:VEVENT
DTSTART;TZID=America/New_York:20260306T140000
DTEND;TZID=America/New_York:20260306T160000
DTSTAMP:20260423T215538
CREATED:20241116T224150Z
LAST-MODIFIED:20250716T062438Z
UID:1812-1772805600-1772812800@dianewittry.com
SUMMARY:Schadt String Competition 2026
DESCRIPTION:The Allentown Symphony – National Schadt String Competition 2026\nOpen to Violinists ages 18 – 30\n$12\,000 First Prize + Performance with the ASO
URL:https://dianewittry.com/event/schadt-string-competition-2026/
LOCATION:Allentown Symphony – Miller Symphony Hall\, 23 N. 6th Street\, Allentown\, PA\, 18103\, United States
ORGANIZER;CN="Allentown Symphony Orchestra":MAILTO:info@allentownsymphony.org
END:VEVENT
BEGIN:VEVENT
DTSTART;TZID=America/New_York:20260314T140000
DTEND;TZID=America/New_York:20260314T163000
DTSTAMP:20260423T215538
CREATED:20250726T182632Z
LAST-MODIFIED:20250726T182632Z
UID:1983-1773496800-1773505800@dianewittry.com
SUMMARY:ASO Pops 4 - Space: The Final Frontier
DESCRIPTION:Allentown Symphony Orchestra\nDiane Wittry\, Conductor\nJesse Posa\, Vocalist \nJoin us for this “Space” concert with music from movies and television shows\, such as Star Trek\, Star Wars\, 2001 A Space Odyssey\, E.T\, Mars and Jupiter from Holst’s The Planets\, and Sinatra’s Fly me to the Moon and Come Fly with Me.   A wonderful  concert for the entire family!
URL:https://dianewittry.com/event/aso-pops-4-space-the-final-frontier-2/
LOCATION:Allentown Symphony – Miller Symphony Hall\, 23 N. 6th Street\, Allentown\, PA\, 18103\, United States
ORGANIZER;CN="Allentown Symphony Orchestra":MAILTO:info@allentownsymphony.org
END:VEVENT
BEGIN:VEVENT
DTSTART;TZID=America/New_York:20260314T193000
DTEND;TZID=America/New_York:20260314T213000
DTSTAMP:20260423T215538
CREATED:20241116T221245Z
LAST-MODIFIED:20250726T182245Z
UID:1798-1773516600-1773523800@dianewittry.com
SUMMARY:ASO Pops 4 - Space: The Final Frontier
DESCRIPTION:Allentown Symphony Orchestra\nDiane Wittry\, Conductor\nJesse Posa\, Vocalist \nJoin us for this “Space” concert with music from movies and television shows\, such as Star Trek\, Star Wars\, 2001 A Space Odyssey\, E.T\, Mars and Jupiter from Holst’s The Planets\, and Sinatra’s Fly me to the Moon and Come Fly with Me.   A wonderful  concert for the entire family!
URL:https://dianewittry.com/event/aso-pops-4-space-the-final-frontier/
LOCATION:Allentown Symphony – Miller Symphony Hall\, 23 N. 6th Street\, Allentown\, PA\, 18103\, United States
ORGANIZER;CN="Allentown Symphony Orchestra":MAILTO:info@allentownsymphony.org
END:VEVENT
BEGIN:VEVENT
DTSTART;TZID=America/New_York:20260324T190000
DTEND;TZID=America/New_York:20260324T210000
DTSTAMP:20260423T215538
CREATED:20241116T223915Z
LAST-MODIFIED:20250716T061736Z
UID:1810-1774378800-1774386000@dianewittry.com
SUMMARY:New Music Chamber Music - America 250!
DESCRIPTION:Allentown Symphony – Chamber Music\nAmerica 250!\nComposer in Residence – Clarice Assad \nCall for Scores.  For more information visit: MillerSymphonyHall.org
URL:https://dianewittry.com/event/new-music-spring/
LOCATION:Allentown Symphony – Miller Symphony Hall\, 23 N. 6th Street\, Allentown\, PA\, 18103\, United States
ORGANIZER;CN="Allentown Symphony Orchestra":MAILTO:info@allentownsymphony.org
END:VEVENT
BEGIN:VEVENT
DTSTART;TZID=America/New_York:20260425T193000
DTEND;TZID=America/New_York:20260425T213000
DTSTAMP:20260423T215538
CREATED:20250715T173625Z
LAST-MODIFIED:20250715T174435Z
UID:1945-1777145400-1777152600@dianewittry.com
SUMMARY:ASO Classical 4 - Mozart's Requiem
DESCRIPTION:Allentown Symphony Orchestra\nDiane Wittry\, Conductor\nJalayne Mitchell\, Cello\nAllentown Symphony Chorus\nVocal Soloists from the Curtis Institute of Music \nAutumn Maria Reed\nMental Health Suite\nJoe Jaxson\nCello Concerto\nWolfgang Amadeus Mozart\nRequiem \n 
URL:https://dianewittry.com/event/aso-classical-4/
LOCATION:Allentown Symphony – Miller Symphony Hall\, 23 N. 6th Street\, Allentown\, PA\, 18103\, United States
ORGANIZER;CN="Allentown Symphony Orchestra":MAILTO:info@allentownsymphony.org
END:VEVENT
BEGIN:VEVENT
DTSTART;TZID=America/New_York:20260426T140000
DTEND;TZID=America/New_York:20260426T160000
DTSTAMP:20260423T215538
CREATED:20241116T215926Z
LAST-MODIFIED:20250715T174252Z
UID:1784-1777212000-1777219200@dianewittry.com
SUMMARY:ASO Classical 4 - Mozart's Requiem
DESCRIPTION:Allentown Symphony Orchestra\nDiane Wittry\, Conductor\nJalayne Mitchell\, Cello\nAllentown Symphony Chorus \nAutumn Maria Reed\nMental Health Suite\nJoe Jaxson\nCello Concerto\nWolfgang Amadeus Mozart\nRequiem \n 
URL:https://dianewittry.com/event/aso-classical-4-2/
LOCATION:Allentown Symphony – Miller Symphony Hall\, 23 N. 6th Street\, Allentown\, PA\, 18103\, United States
ORGANIZER;CN="Allentown Symphony Orchestra":MAILTO:info@allentownsymphony.org
END:VEVENT
BEGIN:VEVENT
DTSTART;TZID=America/New_York:20260516T193000
DTEND;TZID=America/New_York:20260516T213000
DTSTAMP:20260423T215538
CREATED:20250715T171958Z
LAST-MODIFIED:20250715T174055Z
UID:1941-1778959800-1778967000@dianewittry.com
SUMMARY:ASO Classical 5 - Mahler's Titan
DESCRIPTION:Allentown Symphony Orchestra\nDiane Wittry\, Conductor\nErik Ralske\, Horn \nGrazyna Bacewicz\nOverture\nRichard Strauss\nHorn Concerto No. 1\nGustav Mahler\nSymphony No. 1 \n 
URL:https://dianewittry.com/event/aso-classical-5/
LOCATION:Allentown Symphony – Miller Symphony Hall\, 23 N. 6th Street\, Allentown\, PA\, 18103\, United States
ORGANIZER;CN="Allentown Symphony Orchestra":MAILTO:info@allentownsymphony.org
END:VEVENT
BEGIN:VEVENT
DTSTART;TZID=America/New_York:20260517T140000
DTEND;TZID=America/New_York:20260517T160000
DTSTAMP:20260423T215538
CREATED:20241116T220127Z
LAST-MODIFIED:20250715T173928Z
UID:1788-1779026400-1779033600@dianewittry.com
SUMMARY:ASO Classical 5 - Mahler's Titan
DESCRIPTION:Allentown Symphony Orchestra\nDiane Wittry\, Conductor\nErik Ralske\, Horn \nGrazyna Bacewicz\nOverture\nRichard Strauss\nHorn Concerto No. 1\nGustav Mahler\nSymphony No. 1 \n 
URL:https://dianewittry.com/event/aso-classical-5-2/
LOCATION:Allentown Symphony – Miller Symphony Hall\, 23 N. 6th Street\, Allentown\, PA\, 18103\, United States
ORGANIZER;CN="Allentown Symphony Orchestra":MAILTO:info@allentownsymphony.org
END:VEVENT
BEGIN:VEVENT
DTSTART;TZID=America/New_York:20260718T140000
DTEND;TZID=America/New_York:20260718T160000
DTSTAMP:20260423T215538
CREATED:20241116T221342Z
LAST-MODIFIED:20250716T060648Z
UID:1800-1784383200-1784390400@dianewittry.com
SUMMARY:ASO Pops 5 - Dancing Queen - The Music of ABBA
DESCRIPTION:Allentown Symphony Orchestra\nDancing Queen – The Music of ABBA \nDance and  sing along to hits such as Mamma Mia\, Winner Takes it All\, Waterloo\, Dancing Queen\, and more!
URL:https://dianewittry.com/event/aso-pops-5/
LOCATION:Allentown Symphony – Miller Symphony Hall\, 23 N. 6th Street\, Allentown\, PA\, 18103\, United States
ORGANIZER;CN="Allentown Symphony Orchestra":MAILTO:info@allentownsymphony.org
END:VEVENT
BEGIN:VEVENT
DTSTART;TZID=America/New_York:20260718T193000
DTEND;TZID=America/New_York:20260718T213000
DTSTAMP:20260423T215538
CREATED:20250716T060818Z
LAST-MODIFIED:20250716T060818Z
UID:1955-1784403000-1784410200@dianewittry.com
SUMMARY:ASO Pops 5 - Dancing Queen - The Music of ABBA
DESCRIPTION:Allentown Symphony Orchestra\nDancing Queen – The Music of ABBA \nDance and  sing along to hits such as Mamma Mia\, Winner Takes it All\, Waterloo\, Dancing Queen\, and more!
URL:https://dianewittry.com/event/aso-pops-5-dancing-queen-the-music-of-abba/
LOCATION:Allentown Symphony – Miller Symphony Hall\, 23 N. 6th Street\, Allentown\, PA\, 18103\, United States
ORGANIZER;CN="Allentown Symphony Orchestra":MAILTO:info@allentownsymphony.org
END:VEVENT
END:VCALENDAR