BEGIN:VCALENDAR
VERSION:2.0
PRODID:-//Diane Wittry, Conductor - ECPv6.15.20//NONSGML v1.0//EN
CALSCALE:GREGORIAN
METHOD:PUBLISH
X-WR-CALNAME:Diane Wittry, Conductor
X-ORIGINAL-URL:https://dianewittry.com
X-WR-CALDESC:Events for Diane Wittry, Conductor
REFRESH-INTERVAL;VALUE=DURATION:PT1H
X-Robots-Tag:noindex
X-PUBLISHED-TTL:PT1H
BEGIN:VTIMEZONE
TZID:America/New_York
BEGIN:DAYLIGHT
TZOFFSETFROM:-0500
TZOFFSETTO:-0400
TZNAME:EDT
DTSTART:20220313T070000
END:DAYLIGHT
BEGIN:STANDARD
TZOFFSETFROM:-0400
TZOFFSETTO:-0500
TZNAME:EST
DTSTART:20221106T060000
END:STANDARD
BEGIN:DAYLIGHT
TZOFFSETFROM:-0500
TZOFFSETTO:-0400
TZNAME:EDT
DTSTART:20230312T070000
END:DAYLIGHT
BEGIN:STANDARD
TZOFFSETFROM:-0400
TZOFFSETTO:-0500
TZNAME:EST
DTSTART:20231105T060000
END:STANDARD
BEGIN:DAYLIGHT
TZOFFSETFROM:-0500
TZOFFSETTO:-0400
TZNAME:EDT
DTSTART:20240310T070000
END:DAYLIGHT
BEGIN:STANDARD
TZOFFSETFROM:-0400
TZOFFSETTO:-0500
TZNAME:EST
DTSTART:20241103T060000
END:STANDARD
BEGIN:DAYLIGHT
TZOFFSETFROM:-0500
TZOFFSETTO:-0400
TZNAME:EDT
DTSTART:20250309T070000
END:DAYLIGHT
BEGIN:STANDARD
TZOFFSETFROM:-0400
TZOFFSETTO:-0500
TZNAME:EST
DTSTART:20251102T060000
END:STANDARD
BEGIN:DAYLIGHT
TZOFFSETFROM:-0500
TZOFFSETTO:-0400
TZNAME:EDT
DTSTART:20260308T070000
END:DAYLIGHT
BEGIN:STANDARD
TZOFFSETFROM:-0400
TZOFFSETTO:-0500
TZNAME:EST
DTSTART:20261101T060000
END:STANDARD
END:VTIMEZONE
BEGIN:VTIMEZONE
TZID:America/Los_Angeles
BEGIN:DAYLIGHT
TZOFFSETFROM:-0800
TZOFFSETTO:-0700
TZNAME:PDT
DTSTART:20230312T100000
END:DAYLIGHT
BEGIN:STANDARD
TZOFFSETFROM:-0700
TZOFFSETTO:-0800
TZNAME:PST
DTSTART:20231105T090000
END:STANDARD
BEGIN:DAYLIGHT
TZOFFSETFROM:-0800
TZOFFSETTO:-0700
TZNAME:PDT
DTSTART:20240310T100000
END:DAYLIGHT
BEGIN:STANDARD
TZOFFSETFROM:-0700
TZOFFSETTO:-0800
TZNAME:PST
DTSTART:20241103T090000
END:STANDARD
BEGIN:DAYLIGHT
TZOFFSETFROM:-0800
TZOFFSETTO:-0700
TZNAME:PDT
DTSTART:20250309T100000
END:DAYLIGHT
BEGIN:STANDARD
TZOFFSETFROM:-0700
TZOFFSETTO:-0800
TZNAME:PST
DTSTART:20251102T090000
END:STANDARD
END:VTIMEZONE
BEGIN:VTIMEZONE
TZID:UTC
BEGIN:STANDARD
TZOFFSETFROM:+0000
TZOFFSETTO:+0000
TZNAME:UTC
DTSTART:20220101T000000
END:STANDARD
END:VTIMEZONE
BEGIN:VEVENT
DTSTART;TZID=America/New_York:20250406T150000
DTEND;TZID=America/New_York:20250406T170000
DTSTAMP:20260423T201900
CREATED:20241119T204612Z
LAST-MODIFIED:20241119T204612Z
UID:1820-1743951600-1743958800@dianewittry.com
SUMMARY:Young Musicians String Festival
DESCRIPTION:Allentown Symphony Orchestra \nThe Allentown Symphony Orchestra’s Young Musician String Festival is comprised of students from the Greater Lehigh Valley. Students receive music in advance to practice and meet to rehearse with Diane Wittry\, ASO musicians\, and El Systema Lehigh Valley teaching artists before the performance at Miller Symphony Hall. This is one of many ASO Education Programs.
URL:https://dianewittry.com/event/young-musicians-string-festival/
LOCATION:Allentown Symphony – Miller Symphony Hall\, 23 N. 6th Street\, Allentown\, PA\, 18103\, United States
ATTACH;FMTTYPE=image/jpeg:https://dianewittry.com/wp-content/uploads/2024/11/Young-Musicians-Concert.jpg
ORGANIZER;CN="Allentown Symphony Orchestra":MAILTO:info@allentownsymphony.org
END:VEVENT
BEGIN:VEVENT
DTSTART;TZID=America/New_York:20250325T190000
DTEND;TZID=America/New_York:20250325T210000
DTSTAMP:20260423T201900
CREATED:20241113T210033Z
LAST-MODIFIED:20241113T210119Z
UID:1763-1742929200-1742936400@dianewittry.com
SUMMARY:New Chamber Music Concert
DESCRIPTION:Allentown Symphony Orchestra \nA Chamber Ensemble of Allentown Symphony musicians performs works of local composers as well as selections by prominent composers of today including Composer-In-Residence Clarice Assad. All work has a Spanish/Latin influence or fall into the category of Latin Jazz.
URL:https://dianewittry.com/event/new-chamber-music-concert/
LOCATION:Allentown Symphony – Miller Symphony Hall\, 23 N. 6th Street\, Allentown\, PA\, 18103\, United States
ATTACH;FMTTYPE=image/jpeg:https://dianewittry.com/wp-content/uploads/2024/11/New-Music.jpg
ORGANIZER;CN="Allentown Symphony Orchestra":MAILTO:info@allentownsymphony.org
END:VEVENT
BEGIN:VEVENT
DTSTART;TZID=America/New_York:20250309T140000
DTEND;TZID=America/New_York:20250309T160000
DTSTAMP:20260423T201900
CREATED:20241113T195750Z
LAST-MODIFIED:20241113T201132Z
UID:1749-1741528800-1741536000@dianewittry.com
SUMMARY:Copland's Fanfare & Brahms
DESCRIPTION:Allentown Symphony Orchestra\nDiane Wittry Conductor\nDeanna Breiwick Soprano\nJohn Brancy Baritone\nAllentown Symphony Chorus\nEduardo Azzati Chorus Master \nAaron Copland\nFanfare for the Common Man\nRalph Vaughan Williams\nDonna Nobis Pacem\, featuring the poetry of Walt Whitman\nJohannes Brahms\nSymphony No. 4
URL:https://dianewittry.com/event/coplands-fanfare-brahms-2/
LOCATION:Allentown Symphony – Miller Symphony Hall\, 23 N. 6th Street\, Allentown\, PA\, 18103\, United States
ATTACH;FMTTYPE=image/jpeg:https://dianewittry.com/wp-content/uploads/2024/11/Copeland-Williams-and-Brahms.jpg
ORGANIZER;CN="Allentown Symphony Orchestra":MAILTO:info@allentownsymphony.org
END:VEVENT
BEGIN:VEVENT
DTSTART;TZID=America/New_York:20250308T193000
DTEND;TZID=America/New_York:20250308T213000
DTSTAMP:20260423T201900
CREATED:20241113T195443Z
LAST-MODIFIED:20241113T201255Z
UID:1746-1741462200-1741469400@dianewittry.com
SUMMARY:Copland's Fanfare & Brahms
DESCRIPTION:Allentown Symphony Orchestra\nDiane Wittry Conductor\nDeanna Breiwick Soprano\nJohn Brancy Baritone\nAllentown Symphony Chorus\nEduardo Azzati Chorus Master \nAaron Copland\nFanfare for the Common Man\nRalph Vaughan Williams\nDonna Nobis Pacem\, featuring the poetry of Walt Whitman\nJohannes Brahms\nSymphony No. 4
URL:https://dianewittry.com/event/coplands-fanfare-brahms/
LOCATION:Allentown Symphony – Miller Symphony Hall\, 23 N. 6th Street\, Allentown\, PA\, 18103\, United States
ATTACH;FMTTYPE=image/jpeg:https://dianewittry.com/wp-content/uploads/2024/11/Copeland-Williams-and-Brahms.jpg
ORGANIZER;CN="Allentown Symphony Orchestra":MAILTO:info@allentownsymphony.org
END:VEVENT
BEGIN:VEVENT
DTSTART;TZID=America/New_York:20250222T140000
DTEND;TZID=America/New_York:20250222T160000
DTSTAMP:20260423T201900
CREATED:20241113T190548Z
LAST-MODIFIED:20241113T232811Z
UID:1742-1740232800-1740240000@dianewittry.com
SUMMARY:Mozart\, Copland & the Natural World
DESCRIPTION:Allentown Symphony Orchestra\nDiane Wittry Conductor \nBased upon the principles of STEAM (Science\, Technology\, Engineering\, Arts\, Math)\, this family concert illustrates many parallels between music and the living parts of an ecosystem. Balance and diversity are just two of the concepts presented through music composed by Mozart\, Bach\, Copeland and others.
URL:https://dianewittry.com/event/mozart-copland-the-natural-world/
LOCATION:Allentown Symphony – Miller Symphony Hall\, 23 N. 6th Street\, Allentown\, PA\, 18103\, United States
ATTACH;FMTTYPE=image/jpeg:https://dianewittry.com/wp-content/uploads/2024/11/Natural-World.jpg
ORGANIZER;CN="Allentown Symphony Orchestra":MAILTO:info@allentownsymphony.org
END:VEVENT
BEGIN:VEVENT
DTSTART;TZID=America/New_York:20250209T140000
DTEND;TZID=America/New_York:20250209T160000
DTSTAMP:20260423T201900
CREATED:20241113T185319Z
LAST-MODIFIED:20241113T185319Z
UID:1740-1739109600-1739116800@dianewittry.com
SUMMARY:Mahler & Wagner
DESCRIPTION:Allentown Symphony Orchestra\nDiane Wittry Conductor\nSherezade Panthaki Soprano \nGustav Mahler\nSymphony No. 4\nGrazyna Bacewicz\nConcerto for String Orchestra\nRichard Wagner\nOverture to Tannhauser
URL:https://dianewittry.com/event/mahler-wagner-2/
LOCATION:Allentown Symphony – Miller Symphony Hall\, 23 N. 6th Street\, Allentown\, PA\, 18103\, United States
ATTACH;FMTTYPE=image/jpeg:https://dianewittry.com/wp-content/uploads/2024/11/Mahler-Bacewicz-and-Wagner.jpg
ORGANIZER;CN="Allentown Symphony Orchestra":MAILTO:info@allentownsymphony.org
END:VEVENT
BEGIN:VEVENT
DTSTART;TZID=America/New_York:20250208T193000
DTEND;TZID=America/New_York:20250208T213000
DTSTAMP:20260423T201900
CREATED:20241113T185102Z
LAST-MODIFIED:20241113T185102Z
UID:1737-1739043000-1739050200@dianewittry.com
SUMMARY:Mahler & Wagner
DESCRIPTION:Allentown Symphony Orchestra\nDiane Wittry Conductor\nSherezade Panthaki Soprano \nGustav Mahler\nSymphony No. 4\nGrazyna Bacewicz\nConcerto for String Orchestra\nRichard Wagner\nOverture to Tannhauser
URL:https://dianewittry.com/event/mahler-wagner/
LOCATION:Allentown Symphony – Miller Symphony Hall\, 23 N. 6th Street\, Allentown\, PA\, 18103\, United States
ATTACH;FMTTYPE=image/jpeg:https://dianewittry.com/wp-content/uploads/2024/11/Mahler-Bacewicz-and-Wagner.jpg
ORGANIZER;CN="Allentown Symphony Orchestra":MAILTO:info@allentownsymphony.org
END:VEVENT
BEGIN:VEVENT
DTSTART;TZID=America/New_York:20250112T140000
DTEND;TZID=America/New_York:20250112T170000
DTSTAMP:20260423T201900
CREATED:20241119T131244Z
LAST-MODIFIED:20241119T205203Z
UID:1766-1736690400-1736701200@dianewittry.com
SUMMARY:P.M.E.A.  Orchestra Festival - District 10 - Lehigh Valley
DESCRIPTION:P.M.E.A. Regional Festival at Miller Symphony Hall with Diane Wittry\, Guest Conductor \nDiane Wittry will be the featured guest Conductor for the P.M.E.A (Pennsylvania Music Educators Association) yearly High School Orchestra Festival.  This is the first time it will be held at Miller Symphony Hall\, home of the Allentown Symphony.
URL:https://dianewittry.com/event/p-m-e-a-district-10-orchestra-festival/
LOCATION:Allentown Symphony – Miller Symphony Hall\, 23 N. 6th Street\, Allentown\, PA\, 18103\, United States
ORGANIZER;CN="Allentown Symphony Orchestra":MAILTO:info@allentownsymphony.org
END:VEVENT
BEGIN:VEVENT
DTSTART;TZID=America/New_York:20241221T193000
DTEND;TZID=America/New_York:20241221T213000
DTSTAMP:20260423T201900
CREATED:20241113T181949Z
LAST-MODIFIED:20241113T181949Z
UID:1735-1734809400-1734816600@dianewittry.com
SUMMARY:Holiday Pops
DESCRIPTION:Allentown Symphony Orchestra\nDiane Wittry Conductor\nParkland High School Chorus\nCamille Zamora Soloist \nA sellout every year and now an Allentown holiday tradition! Classics\, carols\, sing-alongs and plenty of surprises (including a visit from a certain North Pole resident!). Perfect for family\, friends and co-workers.
URL:https://dianewittry.com/event/holiday-pops-6/
LOCATION:Allentown Symphony – Miller Symphony Hall\, 23 N. 6th Street\, Allentown\, PA\, 18103\, United States
ATTACH;FMTTYPE=image/jpeg:https://dianewittry.com/wp-content/uploads/2024/11/Pops-1.jpg
ORGANIZER;CN="Allentown Symphony Orchestra":MAILTO:info@allentownsymphony.org
END:VEVENT
BEGIN:VEVENT
DTSTART;TZID=America/New_York:20241221T140000
DTEND;TZID=America/New_York:20241221T160000
DTSTAMP:20260423T201900
CREATED:20241113T181637Z
LAST-MODIFIED:20241113T181849Z
UID:1731-1734789600-1734796800@dianewittry.com
SUMMARY:Holiday Pops
DESCRIPTION:Allentown Symphony Orchestra\nDiane Wittry Conductor\nParkland High School Chorus\nCamille Zamora Soloist \nA sellout every year and now an Allentown holiday tradition! Classics\, carols\, sing-alongs and plenty of surprises (including a visit from a certain North Pole resident!). Perfect for family\, friends and co-workers.
URL:https://dianewittry.com/event/holiday-pops-5/
LOCATION:Allentown Symphony – Miller Symphony Hall\, 23 N. 6th Street\, Allentown\, PA\, 18103\, United States
ATTACH;FMTTYPE=image/jpeg:https://dianewittry.com/wp-content/uploads/2024/11/Pops-1.jpg
ORGANIZER;CN="Allentown Symphony Orchestra":MAILTO:info@allentownsymphony.org
END:VEVENT
BEGIN:VEVENT
DTSTART;TZID=America/New_York:20241208T140000
DTEND;TZID=America/New_York:20241208T173000
DTSTAMP:20260423T201900
CREATED:20241113T180226Z
LAST-MODIFIED:20241113T180226Z
UID:1729-1733666400-1733679000@dianewittry.com
SUMMARY:Nutcracker with Repertory Dance Theatre
DESCRIPTION:The magic of Repertory Dance Theatre‘s Nutcracker brings enchantment to your holidays. Professional guest artists are joined by a cast of 100 dancers with Tchaikovky’s beloved score performed live by the Allentown Symphony.
URL:https://dianewittry.com/event/nutcracker-with-repertory-dance-theatre/
LOCATION:Allentown Symphony – Miller Symphony Hall\, 23 N. 6th Street\, Allentown\, PA\, 18103\, United States
ATTACH;FMTTYPE=image/jpeg:https://dianewittry.com/wp-content/uploads/2024/11/nutcracker.jpeg
ORGANIZER;CN="Allentown Symphony Orchestra":MAILTO:info@allentownsymphony.org
END:VEVENT
BEGIN:VEVENT
DTSTART;TZID=America/New_York:20241207T140000
DTEND;TZID=America/New_York:20241207T173000
DTSTAMP:20260423T201900
CREATED:20241113T174455Z
LAST-MODIFIED:20241113T175958Z
UID:1725-1733580000-1733592600@dianewittry.com
SUMMARY:Nutcracker with Repertory Dance Theatre
DESCRIPTION:The magic of Repertory Dance Theatre‘s Nutcracker brings enchantment to your holidays. Professional guest artists are joined by a cast of 100 dancers with Tchaikovky’s beloved score performed live by the Allentown Symphony.
URL:https://dianewittry.com/event/nutcracker-with-repertory-dance-theater/
LOCATION:Allentown Symphony – Miller Symphony Hall\, 23 N. 6th Street\, Allentown\, PA\, 18103\, United States
ATTACH;FMTTYPE=image/jpeg:https://dianewittry.com/wp-content/uploads/2024/11/nutcracker.jpeg
ORGANIZER;CN="Allentown Symphony Orchestra":MAILTO:info@allentownsymphony.org
END:VEVENT
BEGIN:VEVENT
DTSTART;TZID=America/New_York:20240813T140000
DTEND;TZID=America/New_York:20240813T173000
DTSTAMP:20260423T201900
CREATED:20240514T155547Z
LAST-MODIFIED:20240514T155547Z
UID:1718-1723557600-1723570200@dianewittry.com
SUMMARY:Schedule for 2024-25 Concert Season - Diane Wittry
DESCRIPTION:Concert Schedule for 2024-25 to be updated
URL:https://dianewittry.com/event/schedule-for-2024-25-concert-season-diane-wittry/
LOCATION:Allentown Symphony – Miller Symphony Hall\, 23 N. 6th Street\, Allentown\, PA\, 18103\, United States
ATTACH;FMTTYPE=image/jpeg:https://dianewittry.com/wp-content/uploads/2022/10/Beethoven-7.jpg
ORGANIZER;CN="Allentown Symphony Orchestra":MAILTO:info@allentownsymphony.org
END:VEVENT
BEGIN:VEVENT
DTSTART;VALUE=DATE:20240805
DTEND;VALUE=DATE:20240811
DTSTAMP:20260423T201900
CREATED:20230908T182113Z
LAST-MODIFIED:20240514T154631Z
UID:1569-1722816000-1723334399@dianewittry.com
SUMMARY:Pacific Northwest Conducting Institute
DESCRIPTION:Pacific Northwest Conducting Institute \nConductors Diane Wittry and Anna Edwards teach a week long conducting course on beautiful Whidbey Island\, Washington\, off the coast of Seattle.  August 5 – 10\, 2024.  Repertoire by Beethoven\, Hailstork\, Wagner\, Mendelssohn\, and Wittry!  Conducting Fellows will participate in a concert at the conclusion of the workshop. \n  \n  \n 
URL:https://dianewittry.com/event/pacific-northwest-conducting-institute-3/
LOCATION:Whidbey Island Performing Arts Center\, Langley\, WA\, United States
END:VEVENT
BEGIN:VEVENT
DTSTART;VALUE=DATE:20240515
DTEND;VALUE=DATE:20240520
DTSTAMP:20260423T201900
CREATED:20240514T160351Z
LAST-MODIFIED:20240514T160734Z
UID:1720-1715731200-1716163199@dianewittry.com
SUMMARY:New York Conducting Workshop - Maestri Series
DESCRIPTION:New York Conducting Workshop – Maestri Series \nJoin Conductor Diane Wittry in New York for 5 days of of conducting lessons\, rehearsals\, and masterclasses. May 15 – 19\, 2024\nRepertoire\, Mozart – Overture to Don Giovanni; Beethoven – Symphony No. 8; Louise Farrenc – Symphony No. 3 – new edition by Diane Wittry \n  \n  \n 
URL:https://dianewittry.com/event/new-york-conducting-workshop/
LOCATION:National Opera Center – New York\, 330 7th Ave\, 7th Floor\, New York\, NY\, 10001\, United States
END:VEVENT
BEGIN:VEVENT
DTSTART;TZID=America/New_York:20240414T140000
DTEND;TZID=America/New_York:20240414T173000
DTSTAMP:20260423T201900
CREATED:20221023T202234Z
LAST-MODIFIED:20230908T194205Z
UID:1450-1713103200-1713115800@dianewittry.com
SUMMARY:Beethoven's "Ode to Joy"
DESCRIPTION:Michelle Johnson – Soprano\nMargaret Mezzacappa – Mezzo Soprano\nKyle Van Schoonhoven – Tenor\nEnrico Lagasca – Bass Baritone \nFANFARE ON AMAZING GRACE –  Adolphus Hailstork\nANDANTE CANTABILE from String Quartet No 2 – Florence Price\nWORLD PREMIERE – Joe Jaxson\nODE TO JOY FANFARE –  Diane Wittry\nSYMPHONY No. 9 – Beethoven
URL:https://dianewittry.com/event/beethovens-ode-to-joy-4/
LOCATION:Allentown Symphony – Miller Symphony Hall\, 23 N. 6th Street\, Allentown\, PA\, 18103\, United States
ATTACH;FMTTYPE=image/jpeg:https://dianewittry.com/wp-content/uploads/2020/06/Beethoven.jpg
ORGANIZER;CN="Allentown Symphony Orchestra":MAILTO:info@allentownsymphony.org
END:VEVENT
BEGIN:VEVENT
DTSTART;TZID=UTC:20240413T193000
DTEND;TZID=UTC:20240413T213000
DTSTAMP:20260423T201900
CREATED:20210110T210426Z
LAST-MODIFIED:20230908T194336Z
UID:835-1713036600-1713043800@dianewittry.com
SUMMARY:Beethoven's "Ode to Joy"
DESCRIPTION:Michelle Johnson – Soprano\nMargaret Mezzacappa – Mezzo Soprano\nKyle Van Schoonhoven – Tenor\nEnrico Lagasca – Bass-Baritone \nFANFARE ON AMAZING GRACE –  Adolphus Hailstork\nANDANTE CANTABILE from String Quartet No 2 – Florence Price\nWORLD PREMIERE – Joe Jaxson\nODE TO JOY FANFARE –  Diane Wittry\nSYMPHONY No. 9 – Beethoven
URL:https://dianewittry.com/event/beethoven-9th-symphony/
LOCATION:Allentown Symphony – Miller Symphony Hall\, 23 N. 6th Street\, Allentown\, PA\, 18103\, United States
ATTACH;FMTTYPE=image/jpeg:https://dianewittry.com/wp-content/uploads/2020/06/Beethoven.jpg
ORGANIZER;CN="Allentown Symphony Orchestra":MAILTO:info@allentownsymphony.org
END:VEVENT
BEGIN:VEVENT
DTSTART;TZID=UTC:20240407T150000
DTEND;TZID=UTC:20240407T170000
DTSTAMP:20260423T201900
CREATED:20230908T192806Z
LAST-MODIFIED:20230908T192806Z
UID:1587-1712502000-1712509200@dianewittry.com
SUMMARY:Young Musician's String Festival Concert
DESCRIPTION:Enjoy a Free concert performed by young string players from throughout the Lehigh Valley. Music by Beethoven\, Joe Jaxson\, and Florence Price. Conducted by Diane Wittry\, Music Director of the Allentown Symphony Orchestra
URL:https://dianewittry.com/event/young-musicians-string-festival-concert/
LOCATION:Allentown Symphony – Miller Symphony Hall\, 23 N. 6th Street\, Allentown\, PA\, 18103\, United States
END:VEVENT
BEGIN:VEVENT
DTSTART;TZID=America/New_York:20240326T190000
DTEND;TZID=America/New_York:20240326T210000
DTSTAMP:20260423T201900
CREATED:20230908T184738Z
LAST-MODIFIED:20230908T184738Z
UID:1575-1711479600-1711486800@dianewittry.com
SUMMARY:ASO New Music Chamber Music Concert
DESCRIPTION:Join Allentown Symphony Composer in Residence Clarice Assad and local composers in an informal evening of new music by area composers of all ages!
URL:https://dianewittry.com/event/aso-new-music-chamber-music-concert-5/
LOCATION:Allentown Symphony – Miller Symphony Hall\, 23 N. 6th Street\, Allentown\, PA\, 18103\, United States
ORGANIZER;CN="Allentown Symphony Orchestra":MAILTO:info@allentownsymphony.org
END:VEVENT
BEGIN:VEVENT
DTSTART;TZID=America/New_York:20240310T140000
DTEND;TZID=America/New_York:20240310T173000
DTSTAMP:20260423T201900
CREATED:20221023T202632Z
LAST-MODIFIED:20230908T180530Z
UID:1452-1710079200-1710091800@dianewittry.com
SUMMARY:Scottish Fantasy and Gaelic Symphony
DESCRIPTION:Timothy Chooi\, Violin \nTHE BAMBOULA – RHAPSODIC DANCE NO. 1 – Samuel Coleridge Taylor\nSCOTTISH FANTASY – Max Bruch\nSYMPHONY NO. 1 (GAELIC) – Amy Beach
URL:https://dianewittry.com/event/scottish-fantasy-and-gaelic-symphony-2/
LOCATION:Allentown Symphony – Miller Symphony Hall\, 23 N. 6th Street\, Allentown\, PA\, 18103\, United States
ORGANIZER;CN="Allentown Symphony Orchestra":MAILTO:info@allentownsymphony.org
END:VEVENT
BEGIN:VEVENT
DTSTART;TZID=America/New_York:20240309T193000
DTEND;TZID=America/New_York:20240309T213000
DTSTAMP:20260423T201900
CREATED:20221023T164625Z
LAST-MODIFIED:20230908T194531Z
UID:1443-1710012600-1710019800@dianewittry.com
SUMMARY:Scottish Fantasy and Gaelic Symphony
DESCRIPTION:Timothy Chooi\, Violin \nTHE BAMBOULA – RHAPSODIC DANCE NO. 1 – Samuel Coleridge Taylor\nSCOTTISH FANTASY – Max Bruch\nSYMPHONY NO. 1 (GAELIC) – Amy Beach
URL:https://dianewittry.com/event/scottish-fantasy-and-gaelic-symphony/
LOCATION:Allentown Symphony – Miller Symphony Hall\, 23 N. 6th Street\, Allentown\, PA\, 18103\, United States
ORGANIZER;CN="Allentown Symphony Orchestra":MAILTO:info@allentownsymphony.org
END:VEVENT
BEGIN:VEVENT
DTSTART;TZID=UTC:20240303T140000
DTEND;TZID=UTC:20240303T170000
DTSTAMP:20260423T201900
CREATED:20230908T193530Z
LAST-MODIFIED:20230908T193530Z
UID:1589-1709474400-1709485200@dianewittry.com
SUMMARY:Schadt National String Festival Finals Concert
DESCRIPTION:Enjoy a Free concert performed by the three finalist of the National Schadt String Competition.  $12\,000 First Prize and a performance with the Allentown Symphony Orchestra.  Diane Wittry\, Music Director and Conductor.
URL:https://dianewittry.com/event/schadt-national-string-festival-finals-concert/
LOCATION:Allentown Symphony – Miller Symphony Hall\, 23 N. 6th Street\, Allentown\, PA\, 18103\, United States
END:VEVENT
BEGIN:VEVENT
DTSTART;TZID=America/New_York:20240224T140000
DTEND;TZID=America/New_York:20240224T153000
DTSTAMP:20260423T201900
CREATED:20230908T190557Z
LAST-MODIFIED:20230908T193839Z
UID:1581-1708783200-1708788600@dianewittry.com
SUMMARY:Music in Motion - Let's Dance!
DESCRIPTION:Music in Motion – Let’s Dance! \nSLAVONIC DANCE NO. 8  Antonin Dvorak\nHABANERA from CARMEN  Georges Bizet\nPIZZICATO POLKA  Johann & Josef Strauss\nWALTZ OF THE FLOWERS from THE NUTCRACKER BALLET  Pyotr Ilyich Tchaikovsky\n“JUBA DANCE” from SYMPHONY NO. 1  Florence Price\nHUAPANGO Jose Pablo Moncayo\nHOE DOWN from RODEO  Aaron Copland\nSING\, SING\, SING (WITH A SWING) Louis Prima & Benny Goodman \n  \n  \n 
URL:https://dianewittry.com/event/music-in-motion-lets-dance-2/
LOCATION:Allentown Symphony – Miller Symphony Hall\, 23 N. 6th Street\, Allentown\, PA\, 18103\, United States
ORGANIZER;CN="Allentown Symphony Orchestra":MAILTO:info@allentownsymphony.org
END:VEVENT
BEGIN:VEVENT
DTSTART;TZID=America/New_York:20240222T093000
DTEND;TZID=America/New_York:20240222T123000
DTSTAMP:20260423T201900
CREATED:20230908T191130Z
LAST-MODIFIED:20230908T191130Z
UID:1583-1708594200-1708605000@dianewittry.com
SUMMARY:Music in Motion - Let's Dance!
DESCRIPTION:Music in Motion – Let’s Dance! \nSLAVONIC DANCE NO. 8  Antonin Dvorak\nHABANERA from CARMEN  Georges Bizet\nPIZZICATO POLKA  Johann & Josef Strauss\nWALTZ OF THE FLOWERS from THE NUTCRACKER BALLET  Pyotr Ilyich Tchaikovsky\n“JUBA DANCE” from SYMPHONY NO. 1  Florence Price\nHUAPANGO Jose Pablo Moncayo\nHOE DOWN from RODEO  Aaron Copland\nSING\, SING\, SING (WITH A SWING) Louis Prima & Benny Goodman \n  \n  \n 
URL:https://dianewittry.com/event/music-in-motion-lets-dance-3/
LOCATION:Allentown Symphony – Miller Symphony Hall\, 23 N. 6th Street\, Allentown\, PA\, 18103\, United States
ORGANIZER;CN="Allentown Symphony Orchestra":MAILTO:info@allentownsymphony.org
END:VEVENT
BEGIN:VEVENT
DTSTART;TZID=America/New_York:20240221T093000
DTEND;TZID=America/New_York:20240221T123000
DTSTAMP:20260423T201900
CREATED:20230908T190405Z
LAST-MODIFIED:20230908T191212Z
UID:1579-1708507800-1708518600@dianewittry.com
SUMMARY:Music in Motion - Let's Dance!
DESCRIPTION:Music in Motion – Let’s Dance! \nSLAVONIC DANCE NO. 8  Antonin Dvorak\nHABANERA from CARMEN  Georges Bizet\nPIZZICATO POLKA  Johann & Josef Strauss\nWALTZ OF THE FLOWERS from THE NUTCRACKER BALLET  Pyotr Ilyich Tchaikovsky\n“JUBA DANCE” from SYMPHONY NO. 1  Florence Price\nHUAPANGO Jose Pablo Moncayo\nHOE DOWN from RODEO  Aaron Copland\nSING\, SING\, SING (WITH A SWING) Louis Prima & Benny Goodman \n  \n  \n 
URL:https://dianewittry.com/event/music-in-motion-lets-dance/
LOCATION:Allentown Symphony – Miller Symphony Hall\, 23 N. 6th Street\, Allentown\, PA\, 18103\, United States
ORGANIZER;CN="Allentown Symphony Orchestra":MAILTO:info@allentownsymphony.org
END:VEVENT
BEGIN:VEVENT
DTSTART;TZID=America/New_York:20240211T140000
DTEND;TZID=America/New_York:20240211T170000
DTSTAMP:20260423T201900
CREATED:20221023T203049Z
LAST-MODIFIED:20230908T180732Z
UID:1454-1707660000-1707670800@dianewittry.com
SUMMARY:Carmen and Don Quixote
DESCRIPTION:Cello – Luigi Piovano\nViola – Cindy Phelps\nDON QUIXOTE – Richard Strauss\nDON GIOVANNI OVERTURE – W.A. Mozart\nSELECTIONS FROM CARMEN – Georges Bizet
URL:https://dianewittry.com/event/carmen-and-don-quixote-2/
LOCATION:Allentown Symphony – Miller Symphony Hall\, 23 N. 6th Street\, Allentown\, PA\, 18103\, United States
ORGANIZER;CN="Allentown Symphony Orchestra":MAILTO:info@allentownsymphony.org
END:VEVENT
BEGIN:VEVENT
DTSTART;TZID=America/New_York:20240210T193000
DTEND;TZID=America/New_York:20240210T213000
DTSTAMP:20260423T201900
CREATED:20221023T163416Z
LAST-MODIFIED:20230908T180756Z
UID:1441-1707593400-1707600600@dianewittry.com
SUMMARY:Carmen and Don Quixote
DESCRIPTION:Cello – Luigi Piovano\nViola – Cindy Phelps\nDON QUIXOTE – Richard Strauss\nDON GIOVANNI OVERTURE – W.A. Mozart\nSELECTIONS FROM CARMEN – Georges Bizet
URL:https://dianewittry.com/event/carmen-and-don-quixote/
LOCATION:Allentown Symphony – Miller Symphony Hall\, 23 N. 6th Street\, Allentown\, PA\, 18103\, United States
ORGANIZER;CN="Allentown Symphony Orchestra":MAILTO:info@allentownsymphony.org
END:VEVENT
BEGIN:VEVENT
DTSTART;TZID=UTC:20240120T193000
DTEND;TZID=UTC:20240120T213000
DTSTAMP:20260423T201900
CREATED:20230908T192016Z
LAST-MODIFIED:20230908T192358Z
UID:1585-1705779000-1705786200@dianewittry.com
SUMMARY:Lush Life - the music of Duke Ellington and Billy Strayhorn
DESCRIPTION:LUSH LIFE – THE MUSIC OF DUKE ELLINGTON AND BILLY STRAYHORN.  Diane Wittry conducts the Allentown Symphony in the smooth\, seductive sound of Duke Ellington and those Billy Strayhorn standards: “Satin Doll\,” “Take the A Train\,” and more. It won’t mean a thing if you’re not there to swing!
URL:https://dianewittry.com/event/lush-life-the-music-of-duke-ellington-and-billy-strayhorn/
LOCATION:Allentown Symphony – Miller Symphony Hall\, 23 N. 6th Street\, Allentown\, PA\, 18103\, United States
END:VEVENT
BEGIN:VEVENT
DTSTART;TZID=America/New_York:20231216T193000
DTEND;TZID=America/New_York:20231216T213000
DTSTAMP:20260423T201900
CREATED:20221023T210623Z
LAST-MODIFIED:20230908T181010Z
UID:1474-1702755000-1702762200@dianewittry.com
SUMMARY:Holiday Pops!
DESCRIPTION:The Allentown Symphony and Michael Andrew\, Vocalist\nJoin the ASO and Michael Andrew\, Vocalist\, in a spirited Holiday Concert with all your favorites! \n 
URL:https://dianewittry.com/event/holiday-pops-3/
LOCATION:Allentown Symphony – Miller Symphony Hall\, 23 N. 6th Street\, Allentown\, PA\, 18103\, United States
ORGANIZER;CN="Allentown Symphony Orchestra":MAILTO:info@allentownsymphony.org
END:VEVENT
BEGIN:VEVENT
DTSTART;TZID=UTC:20231216T140000
DTEND;TZID=UTC:20231216T170000
DTSTAMP:20260423T201900
CREATED:20221023T210502Z
LAST-MODIFIED:20230908T181144Z
UID:1472-1702735200-1702746000@dianewittry.com
SUMMARY:Holiday Pops!
DESCRIPTION:The Allentown Symphony and Michael Andrew\, Vocalist\nJoin the ASO and Michael Andrew\, Vocalist\,  in a spirited Holiday Concert with all your favorites! \n 
URL:https://dianewittry.com/event/holiday-pops-2/
LOCATION:Allentown Symphony – Miller Symphony Hall\, 23 N. 6th Street\, Allentown\, PA\, 18103\, United States
ORGANIZER;CN="Allentown Symphony Orchestra":MAILTO:info@allentownsymphony.org
END:VEVENT
END:VCALENDAR