BEGIN:VCALENDAR
VERSION:2.0
PRODID:-//Diane Wittry, Conductor - ECPv6.15.20//NONSGML v1.0//EN
CALSCALE:GREGORIAN
METHOD:PUBLISH
X-WR-CALNAME:Diane Wittry, Conductor
X-ORIGINAL-URL:https://dianewittry.com
X-WR-CALDESC:Events for Diane Wittry, Conductor
REFRESH-INTERVAL;VALUE=DURATION:PT1H
X-Robots-Tag:noindex
X-PUBLISHED-TTL:PT1H
BEGIN:VTIMEZONE
TZID:America/New_York
BEGIN:DAYLIGHT
TZOFFSETFROM:-0500
TZOFFSETTO:-0400
TZNAME:EDT
DTSTART:20210314T070000
END:DAYLIGHT
BEGIN:STANDARD
TZOFFSETFROM:-0400
TZOFFSETTO:-0500
TZNAME:EST
DTSTART:20211107T060000
END:STANDARD
BEGIN:DAYLIGHT
TZOFFSETFROM:-0500
TZOFFSETTO:-0400
TZNAME:EDT
DTSTART:20220313T070000
END:DAYLIGHT
BEGIN:STANDARD
TZOFFSETFROM:-0400
TZOFFSETTO:-0500
TZNAME:EST
DTSTART:20221106T060000
END:STANDARD
BEGIN:DAYLIGHT
TZOFFSETFROM:-0500
TZOFFSETTO:-0400
TZNAME:EDT
DTSTART:20230312T070000
END:DAYLIGHT
BEGIN:STANDARD
TZOFFSETFROM:-0400
TZOFFSETTO:-0500
TZNAME:EST
DTSTART:20231105T060000
END:STANDARD
BEGIN:DAYLIGHT
TZOFFSETFROM:-0500
TZOFFSETTO:-0400
TZNAME:EDT
DTSTART:20240310T070000
END:DAYLIGHT
BEGIN:STANDARD
TZOFFSETFROM:-0400
TZOFFSETTO:-0500
TZNAME:EST
DTSTART:20241103T060000
END:STANDARD
END:VTIMEZONE
BEGIN:VTIMEZONE
TZID:UTC
BEGIN:STANDARD
TZOFFSETFROM:+0000
TZOFFSETTO:+0000
TZNAME:UTC
DTSTART:20210101T000000
END:STANDARD
END:VTIMEZONE
BEGIN:VTIMEZONE
TZID:America/Denver
BEGIN:DAYLIGHT
TZOFFSETFROM:-0700
TZOFFSETTO:-0600
TZNAME:MDT
DTSTART:20220313T090000
END:DAYLIGHT
BEGIN:STANDARD
TZOFFSETFROM:-0600
TZOFFSETTO:-0700
TZNAME:MST
DTSTART:20221106T080000
END:STANDARD
BEGIN:DAYLIGHT
TZOFFSETFROM:-0700
TZOFFSETTO:-0600
TZNAME:MDT
DTSTART:20230312T090000
END:DAYLIGHT
BEGIN:STANDARD
TZOFFSETFROM:-0600
TZOFFSETTO:-0700
TZNAME:MST
DTSTART:20231105T080000
END:STANDARD
BEGIN:DAYLIGHT
TZOFFSETFROM:-0700
TZOFFSETTO:-0600
TZNAME:MDT
DTSTART:20240310T090000
END:DAYLIGHT
BEGIN:STANDARD
TZOFFSETFROM:-0600
TZOFFSETTO:-0700
TZNAME:MST
DTSTART:20241103T080000
END:STANDARD
END:VTIMEZONE
BEGIN:VTIMEZONE
TZID:America/Port_of_Spain
BEGIN:STANDARD
TZOFFSETFROM:-0400
TZOFFSETTO:-0400
TZNAME:AST
DTSTART:20210101T000000
END:STANDARD
END:VTIMEZONE
BEGIN:VTIMEZONE
TZID:America/Los_Angeles
BEGIN:DAYLIGHT
TZOFFSETFROM:-0800
TZOFFSETTO:-0700
TZNAME:PDT
DTSTART:20210314T100000
END:DAYLIGHT
BEGIN:STANDARD
TZOFFSETFROM:-0700
TZOFFSETTO:-0800
TZNAME:PST
DTSTART:20211107T090000
END:STANDARD
BEGIN:DAYLIGHT
TZOFFSETFROM:-0800
TZOFFSETTO:-0700
TZNAME:PDT
DTSTART:20220313T100000
END:DAYLIGHT
BEGIN:STANDARD
TZOFFSETFROM:-0700
TZOFFSETTO:-0800
TZNAME:PST
DTSTART:20221106T090000
END:STANDARD
BEGIN:DAYLIGHT
TZOFFSETFROM:-0800
TZOFFSETTO:-0700
TZNAME:PDT
DTSTART:20230312T100000
END:DAYLIGHT
BEGIN:STANDARD
TZOFFSETFROM:-0700
TZOFFSETTO:-0800
TZNAME:PST
DTSTART:20231105T090000
END:STANDARD
END:VTIMEZONE
BEGIN:VEVENT
DTSTART;TZID=America/New_York:20230520T193000
DTEND;TZID=America/New_York:20230520T213000
DTSTAMP:20260423T235526
CREATED:20221023T204356Z
LAST-MODIFIED:20221023T204356Z
UID:1459-1684611000-1684618200@dianewittry.com
SUMMARY:Peter and the Wolf - Ballet
DESCRIPTION:The New Jersey Ballet partners with the Garden State Philharmonic to bring you the heartwarming “Peter and the Wolf” by Serge Prokofiev\, set as a Ballet with narrator Edward Pleasant.
URL:https://dianewittry.com/event/peter-and-the-wolf-ballet/
ORGANIZER;CN="Garden State Philharmonic":MAILTO:info@GardenStatePhilharmoinc.org
END:VEVENT
BEGIN:VEVENT
DTSTART;TZID=UTC:20230506T193000
DTEND;TZID=UTC:20230506T213000
DTSTAMP:20260423T235526
CREATED:20200610T143415Z
LAST-MODIFIED:20220112T002508Z
UID:537-1683401400-1683408600@dianewittry.com
SUMMARY:John Williams - A Musical Tribute
DESCRIPTION:Legendary.  Iconic.  Unforgettable.  This is the magic of the world’s most celebrated film composer. Diane Wittry returns to the Pops stage to conduct this powerful tribute featuring many of Williams’ greatest hits including selections from Raiders of the Lost Ark\, Jaws\, Harry Potter\, Superman\, and of course…Star Wars.\n \nMarch from Raiders of the Lost Ark\nJaws – Title Theme\nFlight to Neverland from Hook\nHarry Potter and the Sorcerer’s Stone\nMarch from Superman\nBattle of the Heroes from Star Wars Episode II: Revenge of the Sith\nDuel of the Fates from Star Wars: The Phantom Menace\nStar Wars – Suite for Orchestra
URL:https://dianewittry.com/event/john-williams-a-musical-tribute/
LOCATION:Allentown Symphony – Miller Symphony Hall\, 23 N. 6th Street\, Allentown\, PA\, 18103\, United States
ATTACH;FMTTYPE=image/jpeg:https://dianewittry.com/wp-content/uploads/2020/06/John-Williams-2.jpg
END:VEVENT
BEGIN:VEVENT
DTSTART;TZID=America/New_York:20230416T140000
DTEND;TZID=America/New_York:20230416T170000
DTSTAMP:20260423T235526
CREATED:20220112T014457Z
LAST-MODIFIED:20221024T140524Z
UID:1255-1681653600-1681664400@dianewittry.com
SUMMARY:Season Finale
DESCRIPTION:Leonard Fu\, Violin – 2021 Schadt Competition Winner \nSONG OF HIAWATHA OVERTURE – Samuel Coleridge Taylor\nVIOLIN CONCERTO – Edward Elgar\nSYMPHONY NO. 4 – Piotr Ilyich Tchaikovsky \n  \n  \n 
URL:https://dianewittry.com/event/season-finale-2/
LOCATION:Allentown Symphony – Miller Symphony Hall\, 23 N. 6th Street\, Allentown\, PA\, 18103\, United States
ORGANIZER;CN="Allentown Symphony Orchestra":MAILTO:info@allentownsymphony.org
END:VEVENT
BEGIN:VEVENT
DTSTART;TZID=America/New_York:20230415T193000
DTEND;TZID=America/New_York:20230415T213000
DTSTAMP:20260423T235526
CREATED:20220112T014248Z
LAST-MODIFIED:20221024T140830Z
UID:1253-1681587000-1681594200@dianewittry.com
SUMMARY:Season Finale
DESCRIPTION:Leonard Fu\, Violin – 2021 Schadt Competition Winner \nSONG OF HIAWATHA OVERTURE – Samuel Coleridge Taylor\nVIOLIN CONCERTO – Edward Elgar\nSYMPHONY NO. 4 – Piotr Ilyich Tchaikovsky \n  \n  \n 
URL:https://dianewittry.com/event/season-finale/
LOCATION:Allentown Symphony – Miller Symphony Hall\, 23 N. 6th Street\, Allentown\, PA\, 18103\, United States
ORGANIZER;CN="Allentown Symphony Orchestra":MAILTO:info@allentownsymphony.org
END:VEVENT
BEGIN:VEVENT
DTSTART;TZID=America/New_York:20230328T190000
DTEND;TZID=America/New_York:20230328T210000
DTSTAMP:20260423T235526
CREATED:20221023T212525Z
LAST-MODIFIED:20221023T212525Z
UID:1486-1680030000-1680037200@dianewittry.com
SUMMARY:ASO New Music Chamber Music Concert
DESCRIPTION:Join Allentown Symphony Composer in Residence Chris Rogerson and local composers in an informal evening of new music by area composers of all ages!
URL:https://dianewittry.com/event/aso-new-music-chamber-music-concert-3/
LOCATION:Allentown Symphony – Miller Symphony Hall\, 23 N. 6th Street\, Allentown\, PA\, 18103\, United States
ORGANIZER;CN="Allentown Symphony Orchestra":MAILTO:info@allentownsymphony.org
END:VEVENT
BEGIN:VEVENT
DTSTART;TZID=America/New_York:20230312T140000
DTEND;TZID=America/New_York:20230312T170000
DTSTAMP:20260423T235526
CREATED:20220112T013552Z
LAST-MODIFIED:20220112T013645Z
UID:1249-1678629600-1678640400@dianewittry.com
SUMMARY:Daphnis and Chloe
DESCRIPTION:Chris Rogerson\, Composer \nD’UN MATIN DE PRINTEMPS (OF A SPRING MORNING)  Lili Boulanger\nD’UN SOIR TRISTE (OF A SAD EVENING) Lili Boulanger\nRAPSODIE ESPAGNOLE   Maurice Ravel\nCHORAL PIECE – WORLD PREMIERE  Chris Rogerson\nDAPHNIS AND CHOLE\, SUITE NO. 2  Maurice Ravel \n  \n  \n 
URL:https://dianewittry.com/event/daphnis-and-chloe/
LOCATION:Allentown Symphony – Miller Symphony Hall\, 23 N. 6th Street\, Allentown\, PA\, 18103\, United States
ORGANIZER;CN="Allentown Symphony Orchestra":MAILTO:info@allentownsymphony.org
END:VEVENT
BEGIN:VEVENT
DTSTART;TZID=America/New_York:20230311T193000
DTEND;TZID=America/New_York:20230311T213000
DTSTAMP:20260423T235526
CREATED:20220112T013410Z
LAST-MODIFIED:20220112T013735Z
UID:1247-1678563000-1678570200@dianewittry.com
SUMMARY:Daphnis and Chloe
DESCRIPTION:Chris Rogerson\, Composer \nD’UN MATIN DE PRINTEMPS (OF A SPRING MORNING)  Lili Boulanger\nD’UN SOIR TRISTE (OF A SAD EVENING) Lili Boulanger\nRAPSODIE ESPAGNOLE   Maurice Ravel\nCHORAL PIECE – WORLD PREMIERE  Chris Rogerson\nDAPHNIS AND CHOLE\, SUITE NO. 2  Maurice Ravel \n  \n  \n 
URL:https://dianewittry.com/event/daphnis-and-chloe-3/
LOCATION:Allentown Symphony – Miller Symphony Hall\, 23 N. 6th Street\, Allentown\, PA\, 18103\, United States
ORGANIZER;CN="Allentown Symphony Orchestra":MAILTO:info@allentownsymphony.org
END:VEVENT
BEGIN:VEVENT
DTSTART;VALUE=DATE:20230227
DTEND;VALUE=DATE:20230305
DTSTAMP:20260423T235526
CREATED:20221023T213322Z
LAST-MODIFIED:20221023T213322Z
UID:1488-1677456000-1677974399@dianewittry.com
SUMMARY:Denver Philharmonic International Conducting Workshop
DESCRIPTION:Denver Philharmonic International Conducting Workshop \nJoin Conductors Diane Wittry and Lawrence Golan with the Denver Philharmonic in a week of conducting lessons\, rehearsals\, and masterclasses.\nThe workshop concludes with a concert featuring conducting participants \n  \n  \n 
URL:https://dianewittry.com/event/denver-philharmonic-international-conducting-workshop-2/
END:VEVENT
BEGIN:VEVENT
DTSTART;TZID=America/New_York:20230225T140000
DTEND;TZID=America/New_York:20230225T153000
DTSTAMP:20260423T235526
CREATED:20220112T015807Z
LAST-MODIFIED:20220112T015807Z
UID:1257-1677333600-1677339000@dianewittry.com
SUMMARY:The Thrill of the Orchestra
DESCRIPTION:Meet the Instruments of the Orchestra \nFANFARE FROM LA PERI   Paul Dukas\nTHE THRILL OF THE ORCHESTRA   Russell Peck\nNIMBUS 2000 FROM HARRY POTTER AND THE SORCERER’S STONE John Williams\nENNANGA (1st Movement)  William Grant Still\nSYMPHONY NO. 4 (3rd Movement)  Piotr Ilyich Tchaikovsky\nCONGA DEL FUEGO NUEVO Arturo Marquez \n  \n  \n 
URL:https://dianewittry.com/event/the-thrill-of-the-orchestra/
LOCATION:Allentown Symphony – Miller Symphony Hall\, 23 N. 6th Street\, Allentown\, PA\, 18103\, United States
ORGANIZER;CN="Allentown Symphony Orchestra":MAILTO:info@allentownsymphony.org
END:VEVENT
BEGIN:VEVENT
DTSTART;TZID=America/New_York:20230222T100000
DTEND;TZID=America/New_York:20230222T130000
DTSTAMP:20260423T235526
CREATED:20221023T211211Z
LAST-MODIFIED:20221023T211211Z
UID:1478-1677060000-1677070800@dianewittry.com
SUMMARY:The Thrill of the Orchestra
DESCRIPTION:Meet the Instruments of the Orchestra\n(School Performances – Feb 22\, 23\, 2023) \nFANFARE FROM LA PERI   Paul Dukas\nTHE THRILL OF THE ORCHESTRA   Russell Peck\nNIMBUS 2000 FROM HARRY POTTER AND THE SORCERER’S STONE John Williams\nENNANGA (1st Movement)  William Grant Still\nSYMPHONY NO. 4 (3rd Movement)  Piotr Ilyich Tchaikovsky\nCONGA DEL FUEGO NUEVO Arturo Marquez \n  \n  \n 
URL:https://dianewittry.com/event/the-thrill-of-the-orchestra-2/
LOCATION:Allentown Symphony – Miller Symphony Hall\, 23 N. 6th Street\, Allentown\, PA\, 18103\, United States
ORGANIZER;CN="Allentown Symphony Orchestra":MAILTO:info@allentownsymphony.org
END:VEVENT
BEGIN:VEVENT
DTSTART;TZID=America/New_York:20230212T140000
DTEND;TZID=America/New_York:20230212T170000
DTSTAMP:20260423T235526
CREATED:20220112T012504Z
LAST-MODIFIED:20220112T012504Z
UID:1245-1676210400-1676221200@dianewittry.com
SUMMARY:The New World
DESCRIPTION:Mimi Stillman\, Flute\nFran Duffy\, Harp \nENNANGA  William Grant Still\nFLUTE CONCERTO (PA PREMIERE)  Zhou Tian\nSYMPHONY NO. 9 (THE NEW WORLD)   Antonin Dvorak \n  \n  \n 
URL:https://dianewittry.com/event/the-new-world-2/
LOCATION:Allentown Symphony – Miller Symphony Hall\, 23 N. 6th Street\, Allentown\, PA\, 18103\, United States
ORGANIZER;CN="Allentown Symphony Orchestra":MAILTO:info@allentownsymphony.org
END:VEVENT
BEGIN:VEVENT
DTSTART;TZID=America/New_York:20230211T193000
DTEND;TZID=America/New_York:20230211T213000
DTSTAMP:20260423T235526
CREATED:20220112T012219Z
LAST-MODIFIED:20220112T012601Z
UID:1243-1676143800-1676151000@dianewittry.com
SUMMARY:The New World
DESCRIPTION:Mimi Stillman\, Flute\nFran Duffy\, Harp \nENNANGA  William Grant Still\nFLUTE CONCERTO (PA PREMIERE)  Zhou Tian\nSYMPHONY NO. 9 (THE NEW WORLD)   Antonin Dvorak \n  \n  \n 
URL:https://dianewittry.com/event/the-new-world/
LOCATION:Allentown Symphony – Miller Symphony Hall\, 23 N. 6th Street\, Allentown\, PA\, 18103\, United States
ORGANIZER;CN="Allentown Symphony Orchestra":MAILTO:info@allentownsymphony.org
END:VEVENT
BEGIN:VEVENT
DTSTART;TZID=UTC:20230121T193000
DTEND;TZID=UTC:20230121T213000
DTSTAMP:20260423T235526
CREATED:20200611T192641Z
LAST-MODIFIED:20220112T002623Z
UID:597-1674329400-1674336600@dianewittry.com
SUMMARY:Dave Brubeck 100th Anniversary
DESCRIPTION:TAKE FIVE. Diane Wittry and the ASO join the Brubeck Brothers Quartet for a 100th birthday celebration of the life and music of this extraordinary jazz legend – Dave Brubeck. Be there as two of Brubeck’s sons – Chris and Dan – take the stage with the ASO!
URL:https://dianewittry.com/event/dave-brubeck-100th-anniversary/
LOCATION:Allentown Symphony – Miller Symphony Hall\, 23 N. 6th Street\, Allentown\, PA\, 18103\, United States
ATTACH;FMTTYPE=image/jpeg:https://dianewittry.com/wp-content/uploads/2020/06/Brubeck.jpg
END:VEVENT
BEGIN:VEVENT
DTSTART;TZID=UTC:20221217T193000
DTEND;TZID=UTC:20221217T213000
DTSTAMP:20260423T235526
CREATED:20220112T003049Z
LAST-MODIFIED:20220112T003049Z
UID:1230-1671305400-1671312600@dianewittry.com
SUMMARY:Holiday Pops!
DESCRIPTION:The Allentown Symphony and Phoenix Best\, Vocalist\nJoin the ASO in a spirited Holiday Concert with all your favorites! \n 
URL:https://dianewittry.com/event/holiday-pops/
LOCATION:Allentown Symphony – Miller Symphony Hall\, 23 N. 6th Street\, Allentown\, PA\, 18103\, United States
END:VEVENT
BEGIN:VEVENT
DTSTART;TZID=America/New_York:20221217T140000
DTEND;TZID=America/New_York:20221217T170000
DTSTAMP:20260423T235526
CREATED:20221023T210943Z
LAST-MODIFIED:20221023T210943Z
UID:1476-1671285600-1671296400@dianewittry.com
SUMMARY:Holiday Pops!
DESCRIPTION:The Allentown Symphony and Phoenix Best\, Vocalist\nJoin the Allentown Symphony and conductor Diane Wittry in a spirited Holiday Concert with all your favorites! \n 
URL:https://dianewittry.com/event/holiday-pops-4/
LOCATION:Allentown Symphony – Miller Symphony Hall\, 23 N. 6th Street\, Allentown\, PA\, 18103\, United States
ORGANIZER;CN="Allentown Symphony Orchestra":MAILTO:info@allentownsymphony.org
END:VEVENT
BEGIN:VEVENT
DTSTART;VALUE=DATE:20221203
DTEND;VALUE=DATE:20221204
DTSTAMP:20260423T235526
CREATED:20221023T214220Z
LAST-MODIFIED:20221023T214220Z
UID:1490-1670025600-1670111999@dianewittry.com
SUMMARY:Orquestra Costa Atlantica Conducting Workshop\, Portugal
DESCRIPTION:Atlantic Coast International Conducting Workshop\nwith the Orquestra Costa Atlantica\, Portugal \nJoin Conductor Diane Wittry as a guest conducting teacher for this prestigious international conducting course in Portugal. \n  \n  \n 
URL:https://dianewittry.com/event/atlantic-coast-international-conducting-workshop/
END:VEVENT
BEGIN:VEVENT
DTSTART;TZID=America/New_York:20221113T140000
DTEND;TZID=America/New_York:20221113T170000
DTSTAMP:20260423T235526
CREATED:20220112T011214Z
LAST-MODIFIED:20220112T021042Z
UID:1241-1668348000-1668358800@dianewittry.com
SUMMARY:The War Years - 1941-1944
DESCRIPTION:Kelly Hall-Tompkins\, Violin \nSYMPHONY NO. 5  (1943)  Ralph Vaughan Williams\nCONCERTO FOR VIOLIN (1941) Samuel Barber\nTHREE DANCES FROM ON THE TOWN (1944)  Leonard Bernstein \n  \n  \n 
URL:https://dianewittry.com/event/the-war-years-1941-1944/
LOCATION:Allentown Symphony – Miller Symphony Hall\, 23 N. 6th Street\, Allentown\, PA\, 18103\, United States
ORGANIZER;CN="Allentown Symphony Orchestra":MAILTO:info@allentownsymphony.org
END:VEVENT
BEGIN:VEVENT
DTSTART;TZID=America/New_York:20221112T193000
DTEND;TZID=America/New_York:20221112T213000
DTSTAMP:20260423T235526
CREATED:20220112T005818Z
LAST-MODIFIED:20220112T021131Z
UID:1236-1668281400-1668288600@dianewittry.com
SUMMARY:The War Years - 1941-1944
DESCRIPTION:Kelly Hall-Tompkins\, Violin \nSYMPHONY NO. 5  (1943)  Ralph Vaughan Williams\nCONCERTO FOR VIOLIN (1941) Samuel Barber\nTHREE DANCES FROM ON THE TOWN (1944)  Leonard Bernstein \n  \n  \n 
URL:https://dianewittry.com/event/the-war-years/
LOCATION:Allentown Symphony – Miller Symphony Hall\, 23 N. 6th Street\, Allentown\, PA\, 18103\, United States
ORGANIZER;CN="Allentown Symphony Orchestra":MAILTO:info@allentownsymphony.org
END:VEVENT
BEGIN:VEVENT
DTSTART;TZID=America/New_York:20221025T190000
DTEND;TZID=America/New_York:20221025T210000
DTSTAMP:20260423T235526
CREATED:20221023T212331Z
LAST-MODIFIED:20221023T212331Z
UID:1484-1666724400-1666731600@dianewittry.com
SUMMARY:ASO New Music Chamber Music Concert
DESCRIPTION:Join Allentown Symphony Composer in Residence Chris Rogerson and local composers in an informal evening of new music by area composers of all ages!
URL:https://dianewittry.com/event/aso-new-music-chamber-music-concert-2/
LOCATION:Allentown Symphony – Miller Symphony Hall\, 23 N. 6th Street\, Allentown\, PA\, 18103\, United States
ORGANIZER;CN="Allentown Symphony Orchestra":MAILTO:info@allentownsymphony.org
END:VEVENT
BEGIN:VEVENT
DTSTART;TZID=America/New_York:20221016T140000
DTEND;TZID=America/New_York:20221016T170000
DTSTAMP:20260423T235526
CREATED:20220112T004200Z
LAST-MODIFIED:20220112T011026Z
UID:1234-1665928800-1665939600@dianewittry.com
SUMMARY:Opening Night
DESCRIPTION:Eric Lu\, Piano \nOVERTURE FOR ORCHESTRA (1932)  Germaine Tailleferre\nCONCERTO NO. 3  Ludwig van Beethoven\nSYMPHONIC DANCES  Sergei Rachmaninoff \n  \n  \n 
URL:https://dianewittry.com/event/opening-night/
LOCATION:Allentown Symphony – Miller Symphony Hall\, 23 N. 6th Street\, Allentown\, PA\, 18103\, United States
ORGANIZER;CN="Allentown Symphony Orchestra":MAILTO:info@allentownsymphony.org
END:VEVENT
BEGIN:VEVENT
DTSTART;TZID=America/New_York:20221015T193000
DTEND;TZID=America/New_York:20221015T213000
DTSTAMP:20260423T235526
CREATED:20220112T003833Z
LAST-MODIFIED:20220112T010927Z
UID:1232-1665862200-1665869400@dianewittry.com
SUMMARY:Opening Night
DESCRIPTION:Eric Lu\, Piano \nOVERTURE FOR ORCHESTRA (1932)  Germaine Tailleferre\nCONCERTO NO. 3  Ludwig van Beethoven\nSYMPHONIC DANCES  Sergei Rachmaninoff \n  \n  \n 
URL:https://dianewittry.com/event/symphonic-dances/
LOCATION:Allentown Symphony – Miller Symphony Hall\, 23 N. 6th Street\, Allentown\, PA\, 18103\, United States
ORGANIZER;CN="Allentown Symphony Orchestra":MAILTO:info@allentownsymphony.org
END:VEVENT
BEGIN:VEVENT
DTSTART;TZID=America/Los_Angeles:20220808T090000
DTEND;TZID=America/Los_Angeles:20220815T120000
DTSTAMP:20260423T235526
CREATED:20220524T133943Z
LAST-MODIFIED:20220524T134448Z
UID:1341-1659949200-1660564800@dianewittry.com
SUMMARY:Northwest Pacific Conducting Institute
DESCRIPTION:Northwest Pacific Conducting Institute \nConductors Diane Wittry and Anna Edwards teach a week long conducting course on beautiful Whidbey Island\, Washington\, off the coast of Seattle.  Repertoire by Mendelssohn\, Louise Farrenc\, and Tchaikovsky.  Conducting Fellows will participate in a workshop at the conclusion of the workshop. \n  \n  \n 
URL:https://dianewittry.com/event/northwest-pacific-conducting-institute/
LOCATION:Whidbey Island Performing Arts Center\, Langley\, WA\, United States
END:VEVENT
BEGIN:VEVENT
DTSTART;TZID=America/New_York:20220723T140000
DTEND;TZID=America/New_York:20220731T120000
DTSTAMP:20260423T235526
CREATED:20220524T133008Z
LAST-MODIFIED:20221023T171610Z
UID:1328-1658584800-1659268800@dianewittry.com
SUMMARY:Czech Republic International Conducting Workshop
DESCRIPTION:Czech Republic International Conducting Workshop \nJoin Conductors Diane Wittry and Kirk Trevor and the Moravian Philharmonic in a week of conducting lessons\, rehearsals\, and masterclasses.\nThe workshop concludes with a concert featuring all conducting participants \n  \n  \n 
URL:https://dianewittry.com/event/conducting-workshop/
LOCATION:Kromeriz\, Czech Republic\, Kromeriz\, Czech Republic
END:VEVENT
BEGIN:VEVENT
DTSTART;TZID=UTC:20220714T070000
DTEND;TZID=UTC:20220714T213000
DTSTAMP:20260423T235526
CREATED:20220524T135727Z
LAST-MODIFIED:20220524T135727Z
UID:1350-1657782000-1657834200@dianewittry.com
SUMMARY:Garden State Philharmonic Brass and Percussion
DESCRIPTION:GSP – Brass and Percussion \nEnjoy the music of the GSP Brass and Percussion section in an outdoor concert on the steps of the Ocean County Library\, sponsored by the Parks and Recreation Department. FREE!
URL:https://dianewittry.com/event/garden-state-philharmonic-brass-and-percussion/
LOCATION:Garden State Philharmonic at the Ocean County Parks and Recreation site\, 1198 Bandon Rd\,\, Toms River\, NJ\, 08753\, United States
END:VEVENT
BEGIN:VEVENT
DTSTART;TZID=America/New_York:20220709T053000
DTEND;TZID=America/New_York:20220709T220000
DTSTAMP:20260423T235526
CREATED:20220524T134937Z
LAST-MODIFIED:20220524T140114Z
UID:1345-1657344600-1657404000@dianewittry.com
SUMMARY:Tonight We Tango
DESCRIPTION:Tonight We Tango \nFeaturing Javier Sanchez – Bandoneon\, Federico Diaz – Guitar\, John Schwartz – Clarinet\, and members of the Allentown Symphony Orchestra with Conductor Diane Wittry.  Music by Piazzolla\, Dyens\, di Marino\, and more.
URL:https://dianewittry.com/event/tonight-we-tango/
LOCATION:NB Center\, Allentown\, PA\, United States
ORGANIZER;CN="Allentown Symphony Orchestra":MAILTO:info@allentownsymphony.org
END:VEVENT
BEGIN:VEVENT
DTSTART;TZID=America/New_York:20220616T190000
DTEND;TZID=America/New_York:20220619T190000
DTSTAMP:20260423T235526
CREATED:20220524T130442Z
LAST-MODIFIED:20220524T133353Z
UID:1326-1655406000-1655665200@dianewittry.com
SUMMARY:Composer Workshop
DESCRIPTION:Composer Summer Workshop \nJoin Composer in Residence\, Chris Rogerson\, and the ASO Composer Consortium for 3 days of composition readings\, discussions\, and guest panelist.\nKey Note Speaker: Roberto Sierra \n  \n  \n 
URL:https://dianewittry.com/event/composer-summer-workshop/
LOCATION:Allentown Symphony – Miller Symphony Hall\, 23 N. 6th Street\, Allentown\, PA\, 18103\, United States
ORGANIZER;CN="Allentown Symphony Orchestra":MAILTO:info@allentownsymphony.org
END:VEVENT
BEGIN:VEVENT
DTSTART;TZID=UTC:20220522T150000
DTEND;TZID=UTC:20220522T170000
DTSTAMP:20260423T235526
CREATED:20210720T011204Z
LAST-MODIFIED:20210721T210509Z
UID:987-1653231600-1653238800@dianewittry.com
SUMMARY:Music from the Americas
DESCRIPTION:The Garden State Philharmonic Principal Flute\, Allison Kiger and Guitarist\, Oren Fader present a wonderful program of exciting pieces for Flute and Guitar as they explore music from countries in North and South America. \n 
URL:https://dianewittry.com/event/music-from-the-americas/
LOCATION:Garden State Philharmonic at Spring Lake Community Theatre\, 300 Madison Ave\, Spring Lake\, New Jersey\, 07762\, United States
ATTACH;FMTTYPE=image/jpeg:https://dianewittry.com/wp-content/uploads/2021/07/Oren-Fader-with-Allison-Kiger-e1626901477974.jpg
END:VEVENT
BEGIN:VEVENT
DTSTART;TZID=UTC:20220424T140000
DTEND;TZID=UTC:20220424T160000
DTSTAMP:20260423T235526
CREATED:20210110T211726Z
LAST-MODIFIED:20211023T144831Z
UID:841-1650808800-1650816000@dianewittry.com
SUMMARY:Pines of Rome
DESCRIPTION:Hector Olivera\, Organ \nFESTIVE OVERTURE  Dmitri Shostakovich\nNOVELLETTEN NO. 3  Samuel Coleridge Taylor\nCONCERTINO FOR ORGAN AND ORCHESTRA   Eric Ewazen\nGLORIA    John Rutter\nPINES OF ROME Ottorino Respighi \n  \n  \n 
URL:https://dianewittry.com/event/pines-of-rome-2/
LOCATION:Allentown Symphony – Miller Symphony Hall\, 23 N. 6th Street\, Allentown\, PA\, 18103\, United States
ORGANIZER;CN="Allentown Symphony Orchestra":MAILTO:info@allentownsymphony.org
END:VEVENT
BEGIN:VEVENT
DTSTART;TZID=UTC:20220423T193000
DTEND;TZID=UTC:20220423T213000
DTSTAMP:20260423T235526
CREATED:20210110T211059Z
LAST-MODIFIED:20211023T144930Z
UID:837-1650742200-1650749400@dianewittry.com
SUMMARY:Pines of Rome
DESCRIPTION:Hector Olivera\, Organ \nFESTIVE OVERTURE  Dmitri Shostakovich\nNOVELLETTEN NO. 3  Samuel Coleridge Taylor\nCONCERTINO FOR ORGAN AND ORCHESTRA   Eric Ewazen\nGLORIA    John Rutter\nPINES OF ROME Ottorino Respighi \n  \n  \n 
URL:https://dianewittry.com/event/pines-of-rome/
LOCATION:Allentown Symphony – Miller Symphony Hall\, 23 N. 6th Street\, Allentown\, PA\, 18103\, United States
ORGANIZER;CN="Allentown Symphony Orchestra":MAILTO:info@allentownsymphony.org
END:VEVENT
BEGIN:VEVENT
DTSTART;TZID=UTC:20220410T150000
DTEND;TZID=UTC:20220410T170000
DTSTAMP:20260423T235526
CREATED:20210720T010748Z
LAST-MODIFIED:20210721T204809Z
UID:983-1649602800-1649610000@dianewittry.com
SUMMARY:Mozart\, Beethoven\, and More!
DESCRIPTION:Mozart’s “Eine Kleine Nachtmusik” and Beethoven’s String Quartets are iconic.  Hear these favorites performed by the Garden State Philharmonic String Quartet\, along with a world premiere piece by Garden State Philharmonic Composer in Residence\, Ben Goldberg\, a Toms River\, NJ native.
URL:https://dianewittry.com/event/mozart-beethoven-and-more-2/
LOCATION:Garden State Philharmonic Orchestra at The Grunin Center for the Arts\, 1 College Drive\, Toms River\, NJ\, 08754\, United States
ATTACH;FMTTYPE=image/jpeg:https://dianewittry.com/wp-content/uploads/2021/07/Goldberg_Headshot-scaled-e1626899474273.jpg
END:VEVENT
END:VCALENDAR