BEGIN:VCALENDAR
VERSION:2.0
PRODID:-//Diane Wittry, Conductor - ECPv6.15.20//NONSGML v1.0//EN
CALSCALE:GREGORIAN
METHOD:PUBLISH
X-WR-CALNAME:Diane Wittry, Conductor
X-ORIGINAL-URL:https://dianewittry.com
X-WR-CALDESC:Events for Diane Wittry, Conductor
REFRESH-INTERVAL;VALUE=DURATION:PT1H
X-Robots-Tag:noindex
X-PUBLISHED-TTL:PT1H
BEGIN:VTIMEZONE
TZID:America/New_York
BEGIN:DAYLIGHT
TZOFFSETFROM:-0500
TZOFFSETTO:-0400
TZNAME:EDT
DTSTART:20210314T070000
END:DAYLIGHT
BEGIN:STANDARD
TZOFFSETFROM:-0400
TZOFFSETTO:-0500
TZNAME:EST
DTSTART:20211107T060000
END:STANDARD
BEGIN:DAYLIGHT
TZOFFSETFROM:-0500
TZOFFSETTO:-0400
TZNAME:EDT
DTSTART:20220313T070000
END:DAYLIGHT
BEGIN:STANDARD
TZOFFSETFROM:-0400
TZOFFSETTO:-0500
TZNAME:EST
DTSTART:20221106T060000
END:STANDARD
BEGIN:DAYLIGHT
TZOFFSETFROM:-0500
TZOFFSETTO:-0400
TZNAME:EDT
DTSTART:20230312T070000
END:DAYLIGHT
BEGIN:STANDARD
TZOFFSETFROM:-0400
TZOFFSETTO:-0500
TZNAME:EST
DTSTART:20231105T060000
END:STANDARD
END:VTIMEZONE
BEGIN:VTIMEZONE
TZID:UTC
BEGIN:STANDARD
TZOFFSETFROM:+0000
TZOFFSETTO:+0000
TZNAME:UTC
DTSTART:20200101T000000
END:STANDARD
END:VTIMEZONE
BEGIN:VEVENT
DTSTART;TZID=America/New_York:20220723T140000
DTEND;TZID=America/New_York:20220731T120000
DTSTAMP:20260424T031710
CREATED:20220524T133008Z
LAST-MODIFIED:20221023T171610Z
UID:1328-1658584800-1659268800@dianewittry.com
SUMMARY:Czech Republic International Conducting Workshop
DESCRIPTION:Czech Republic International Conducting Workshop \nJoin Conductors Diane Wittry and Kirk Trevor and the Moravian Philharmonic in a week of conducting lessons\, rehearsals\, and masterclasses.\nThe workshop concludes with a concert featuring all conducting participants \n  \n  \n 
URL:https://dianewittry.com/event/conducting-workshop/
LOCATION:Kromeriz\, Czech Republic\, Kromeriz\, Czech Republic
END:VEVENT
BEGIN:VEVENT
DTSTART;TZID=UTC:20220714T070000
DTEND;TZID=UTC:20220714T213000
DTSTAMP:20260424T031710
CREATED:20220524T135727Z
LAST-MODIFIED:20220524T135727Z
UID:1350-1657782000-1657834200@dianewittry.com
SUMMARY:Garden State Philharmonic Brass and Percussion
DESCRIPTION:GSP – Brass and Percussion \nEnjoy the music of the GSP Brass and Percussion section in an outdoor concert on the steps of the Ocean County Library\, sponsored by the Parks and Recreation Department. FREE!
URL:https://dianewittry.com/event/garden-state-philharmonic-brass-and-percussion/
LOCATION:Garden State Philharmonic at the Ocean County Parks and Recreation site\, 1198 Bandon Rd\,\, Toms River\, NJ\, 08753\, United States
END:VEVENT
BEGIN:VEVENT
DTSTART;TZID=America/New_York:20220709T053000
DTEND;TZID=America/New_York:20220709T220000
DTSTAMP:20260424T031710
CREATED:20220524T134937Z
LAST-MODIFIED:20220524T140114Z
UID:1345-1657344600-1657404000@dianewittry.com
SUMMARY:Tonight We Tango
DESCRIPTION:Tonight We Tango \nFeaturing Javier Sanchez – Bandoneon\, Federico Diaz – Guitar\, John Schwartz – Clarinet\, and members of the Allentown Symphony Orchestra with Conductor Diane Wittry.  Music by Piazzolla\, Dyens\, di Marino\, and more.
URL:https://dianewittry.com/event/tonight-we-tango/
LOCATION:NB Center\, Allentown\, PA\, United States
ORGANIZER;CN="Allentown Symphony Orchestra":MAILTO:info@allentownsymphony.org
END:VEVENT
BEGIN:VEVENT
DTSTART;TZID=America/New_York:20220616T190000
DTEND;TZID=America/New_York:20220619T190000
DTSTAMP:20260424T031710
CREATED:20220524T130442Z
LAST-MODIFIED:20220524T133353Z
UID:1326-1655406000-1655665200@dianewittry.com
SUMMARY:Composer Workshop
DESCRIPTION:Composer Summer Workshop \nJoin Composer in Residence\, Chris Rogerson\, and the ASO Composer Consortium for 3 days of composition readings\, discussions\, and guest panelist.\nKey Note Speaker: Roberto Sierra \n  \n  \n 
URL:https://dianewittry.com/event/composer-summer-workshop/
LOCATION:Allentown Symphony – Miller Symphony Hall\, 23 N. 6th Street\, Allentown\, PA\, 18103\, United States
ORGANIZER;CN="Allentown Symphony Orchestra":MAILTO:info@allentownsymphony.org
END:VEVENT
BEGIN:VEVENT
DTSTART;TZID=UTC:20220522T150000
DTEND;TZID=UTC:20220522T170000
DTSTAMP:20260424T031710
CREATED:20210720T011204Z
LAST-MODIFIED:20210721T210509Z
UID:987-1653231600-1653238800@dianewittry.com
SUMMARY:Music from the Americas
DESCRIPTION:The Garden State Philharmonic Principal Flute\, Allison Kiger and Guitarist\, Oren Fader present a wonderful program of exciting pieces for Flute and Guitar as they explore music from countries in North and South America. \n 
URL:https://dianewittry.com/event/music-from-the-americas/
LOCATION:Garden State Philharmonic at Spring Lake Community Theatre\, 300 Madison Ave\, Spring Lake\, New Jersey\, 07762\, United States
ATTACH;FMTTYPE=image/jpeg:https://dianewittry.com/wp-content/uploads/2021/07/Oren-Fader-with-Allison-Kiger-e1626901477974.jpg
END:VEVENT
BEGIN:VEVENT
DTSTART;TZID=UTC:20220424T140000
DTEND;TZID=UTC:20220424T160000
DTSTAMP:20260424T031710
CREATED:20210110T211726Z
LAST-MODIFIED:20211023T144831Z
UID:841-1650808800-1650816000@dianewittry.com
SUMMARY:Pines of Rome
DESCRIPTION:Hector Olivera\, Organ \nFESTIVE OVERTURE  Dmitri Shostakovich\nNOVELLETTEN NO. 3  Samuel Coleridge Taylor\nCONCERTINO FOR ORGAN AND ORCHESTRA   Eric Ewazen\nGLORIA    John Rutter\nPINES OF ROME Ottorino Respighi \n  \n  \n 
URL:https://dianewittry.com/event/pines-of-rome-2/
LOCATION:Allentown Symphony – Miller Symphony Hall\, 23 N. 6th Street\, Allentown\, PA\, 18103\, United States
ORGANIZER;CN="Allentown Symphony Orchestra":MAILTO:info@allentownsymphony.org
END:VEVENT
BEGIN:VEVENT
DTSTART;TZID=UTC:20220423T193000
DTEND;TZID=UTC:20220423T213000
DTSTAMP:20260424T031710
CREATED:20210110T211059Z
LAST-MODIFIED:20211023T144930Z
UID:837-1650742200-1650749400@dianewittry.com
SUMMARY:Pines of Rome
DESCRIPTION:Hector Olivera\, Organ \nFESTIVE OVERTURE  Dmitri Shostakovich\nNOVELLETTEN NO. 3  Samuel Coleridge Taylor\nCONCERTINO FOR ORGAN AND ORCHESTRA   Eric Ewazen\nGLORIA    John Rutter\nPINES OF ROME Ottorino Respighi \n  \n  \n 
URL:https://dianewittry.com/event/pines-of-rome/
LOCATION:Allentown Symphony – Miller Symphony Hall\, 23 N. 6th Street\, Allentown\, PA\, 18103\, United States
ORGANIZER;CN="Allentown Symphony Orchestra":MAILTO:info@allentownsymphony.org
END:VEVENT
BEGIN:VEVENT
DTSTART;TZID=UTC:20220410T150000
DTEND;TZID=UTC:20220410T170000
DTSTAMP:20260424T031710
CREATED:20210720T010748Z
LAST-MODIFIED:20210721T204809Z
UID:983-1649602800-1649610000@dianewittry.com
SUMMARY:Mozart\, Beethoven\, and More!
DESCRIPTION:Mozart’s “Eine Kleine Nachtmusik” and Beethoven’s String Quartets are iconic.  Hear these favorites performed by the Garden State Philharmonic String Quartet\, along with a world premiere piece by Garden State Philharmonic Composer in Residence\, Ben Goldberg\, a Toms River\, NJ native.
URL:https://dianewittry.com/event/mozart-beethoven-and-more-2/
LOCATION:Garden State Philharmonic Orchestra at The Grunin Center for the Arts\, 1 College Drive\, Toms River\, NJ\, 08754\, United States
ATTACH;FMTTYPE=image/jpeg:https://dianewittry.com/wp-content/uploads/2021/07/Goldberg_Headshot-scaled-e1626899474273.jpg
END:VEVENT
BEGIN:VEVENT
DTSTART;TZID=UTC:20220405T190000
DTEND;TZID=UTC:20220405T210000
DTSTAMP:20260424T031710
CREATED:20210720T012657Z
LAST-MODIFIED:20210720T012657Z
UID:993-1649185200-1649192400@dianewittry.com
SUMMARY:ASO New Music Chamber Music Concert - Food and Flavors
DESCRIPTION:Join ASO Composer in Residence Chris Rogerson and local composers in an informal evening of new music inspired by Food!
URL:https://dianewittry.com/event/aso-new-music-chamber-music-concert-food-and-flavors/
LOCATION:Allentown Symphony – Miller Symphony Hall\, 23 N. 6th Street\, Allentown\, PA\, 18103\, United States
END:VEVENT
BEGIN:VEVENT
DTSTART;TZID=UTC:20220403T150000
DTEND;TZID=UTC:20220403T170000
DTSTAMP:20260424T031710
CREATED:20210720T010614Z
LAST-MODIFIED:20210721T204618Z
UID:981-1648998000-1649005200@dianewittry.com
SUMMARY:Mozart\, Beethoven\, and More!
DESCRIPTION:Mozart’s “Eine Kleine Nachtmusik” and Beethoven’s String Quartets are iconic.  Hear these favorites performed by the Garden State Philharmonic String Quartet\, along with a world premiere piece by Garden State Philharmonic Composer in Residence\, Ben Goldberg\, a Toms River\, NJ native.
URL:https://dianewittry.com/event/mozart-beethoven-and-more/
LOCATION:Garden State Philharmonic at Spring Lake Community Theatre\, 300 Madison Ave\, Spring Lake\, New Jersey\, 07762\, United States
ATTACH;FMTTYPE=image/jpeg:https://dianewittry.com/wp-content/uploads/2021/07/Goldberg_Headshot-scaled-e1626899474273.jpg
END:VEVENT
BEGIN:VEVENT
DTSTART;TZID=UTC:20220313T140000
DTEND;TZID=UTC:20220313T163000
DTSTAMP:20260424T031710
CREATED:20200613T145124Z
LAST-MODIFIED:20220112T020201Z
UID:631-1647180000-1647189000@dianewittry.com
SUMMARY:Bolero!
DESCRIPTION:Gabriel Martins\, Cello\n2019 Schadt Competition Winner\n2020 Sphinx 1st Prize Winner\nDancers from the PA Youth Ballet \nCELLO CONCERTO – Dvorak\nMA MERE L’OYE (MOTHER GOOSE BALLET) – Ravel\nBOLERO – Ravel
URL:https://dianewittry.com/event/bolero-2/
LOCATION:Allentown Symphony – Miller Symphony Hall\, 23 N. 6th Street\, Allentown\, PA\, 18103\, United States
ATTACH;FMTTYPE=image/jpeg:https://dianewittry.com/wp-content/uploads/2020/06/Gabriel-Martins.jpg
END:VEVENT
BEGIN:VEVENT
DTSTART;TZID=America/New_York:20220312T193000
DTEND;TZID=America/New_York:20220312T213000
DTSTAMP:20260424T031710
CREATED:20200613T144902Z
LAST-MODIFIED:20220112T020453Z
UID:629-1647113400-1647120600@dianewittry.com
SUMMARY:Bolero!
DESCRIPTION:Gabriel Martins\, Cello\n2019 Schadt Competition Winner\n202 Sphinx 1st Prize Winner\nDancers from the PA Youth Ballet \nCELLO CONCERTO – Dvorak\nMA MERE L’OYE (MOTHER GOOSE BALLET) – Ravel\nBOLERO – Ravel
URL:https://dianewittry.com/event/bolero/
LOCATION:Allentown Symphony – Miller Symphony Hall\, 23 N. 6th Street\, Allentown\, PA\, 18103\, United States
ATTACH;FMTTYPE=image/jpeg:https://dianewittry.com/wp-content/uploads/2020/06/Gabriel-Martins.jpg
END:VEVENT
BEGIN:VEVENT
DTSTART;TZID=UTC:20220227T150000
DTEND;TZID=UTC:20220227T170000
DTSTAMP:20260424T031710
CREATED:20210720T010138Z
LAST-MODIFIED:20211023T143948Z
UID:979-1645974000-1645981200@dianewittry.com
SUMMARY:Peter and the Wolf and Music from Around the World
DESCRIPTION:Serge Prokofiev’s famous story\, Peter and the Wolf\, is known and loved by people around the world.  Experience this classic performed by the Garden State Philharmonic\, as we take a trip around the world with additional music by Claude Debussy\, Ralph Vaughan Williams\, Harry Burleigh\, Scott Joplin\, Valerie Coleman\, and Zequinha de Abreu.  Featuring Narrator and Baritone\, Edward Pleasant\, this concert is great for people of all ages.
URL:https://dianewittry.com/event/peter-and-the-wolf-and-music-from-around-the-world-4/
LOCATION:Garden State Philharmonic at Spring Lake Community Theatre\, 300 Madison Ave\, Spring Lake\, New Jersey\, 07762\, United States
ATTACH;FMTTYPE=image/jpeg:https://dianewittry.com/wp-content/uploads/2021/07/Edward-Pleasant-1-e1626899636833.jpg
END:VEVENT
BEGIN:VEVENT
DTSTART;TZID=UTC:20220226T140000
DTEND;TZID=UTC:20220226T140000
DTSTAMP:20260424T031710
CREATED:20200611T194736Z
LAST-MODIFIED:20210110T181208Z
UID:605-1645884000-1645884000@dianewittry.com
SUMMARY:The Mozart Experience - Magic Circle Mime Company
DESCRIPTION:Magic Circle Mime Company is regarded as one of today’s premier family attractions uniting the Allentown Symphony Orchestra and Diane Wittry with visual theater in a unique and imaginative event. In The Mozart Experience\, the troupe shows a street musician who morphs into a modern Mozart while the company helps the audience experience Mozart’s life as a musical\, human adventure! \n“Ah! vous diral-je Maman” (variations)\nThe Magic Flute Overture\n“Papageno’s Song” from The Magic Flute\nHorn Concerto No. 3 “Rondo”\nEine Kleine Nachtmusik – 1st movement\nOverture to Don Giovanni\nSymphony No. 41 “Jupiter” Allegro
URL:https://dianewittry.com/event/the-mozart-experience-magic-circle-mime-company/
LOCATION:Allentown Symphony – Miller Symphony Hall\, 23 N. 6th Street\, Allentown\, PA\, 18103\, United States
ATTACH;FMTTYPE=image/jpeg:https://dianewittry.com/wp-content/uploads/2020/06/Magic-Circle.jpg
END:VEVENT
BEGIN:VEVENT
DTSTART;TZID=UTC:20220224T100000
DTEND;TZID=UTC:20220224T120000
DTSTAMP:20260424T031710
CREATED:20200613T145836Z
LAST-MODIFIED:20210110T181322Z
UID:635-1645696800-1645704000@dianewittry.com
SUMMARY:The Mozart Experience - Magic Circle Mime Company
DESCRIPTION:SCHOOL-TIME CONCERTS: Magic Circle Mime Company is regarded as one of today’s premier family attractions uniting the Allentown Symphony Orchestra and Diane Wittry with visual theater in a unique and imaginative event. In The Mozart Experience\, the troupe shows a street musician who morphs into a modern Mozart while the company helps the audience experience Mozart’s life as a musical\, human adventure! \n“Ah! vous diral-je Maman” (variations)\nThe Magic Flute Overture\n“Papageno’s Song” from The Magic Flute\nHorn Concerto No. 3 “Rondo”\nEine Kleine Nachtmusik – 1st movement\nOverture to Don Giovanni\nSymphony No. 41 “Jupiter” Allegro
URL:https://dianewittry.com/event/the-mozart-experience-magic-circle-mime-company-3/
LOCATION:Allentown Symphony – Miller Symphony Hall\, 23 N. 6th Street\, Allentown\, PA\, 18103\, United States
ATTACH;FMTTYPE=image/jpeg:https://dianewittry.com/wp-content/uploads/2020/06/Magic-Circle.jpg
END:VEVENT
BEGIN:VEVENT
DTSTART;TZID=UTC:20220223T100000
DTEND;TZID=UTC:20220223T120000
DTSTAMP:20260424T031710
CREATED:20200613T145607Z
LAST-MODIFIED:20210110T181454Z
UID:633-1645610400-1645617600@dianewittry.com
SUMMARY:The Mozart Experience - Magic Circle Mime Company
DESCRIPTION:SCHOOL-TIME CONCERTS: Magic Circle Mime Company is regarded as one of today’s premier family attractions uniting the Allentown Symphony Orchestra and Diane Wittry with visual theater in a unique and imaginative event. In The Mozart Experience\, the troupe shows a street musician who morphs into a modern Mozart while the company helps the audience experience Mozart’s life as a musical\, human adventure! \n“Ah! vous diral-je Maman” (variations)\nThe Magic Flute Overture\n“Papageno’s Song” from The Magic Flute\nHorn Concerto No. 3 “Rondo”\nEine Kleine Nachtmusik – 1st movement\nOverture to Don Giovanni\nSymphony No. 41 “Jupiter” Allegro
URL:https://dianewittry.com/event/the-mozart-experience-magic-circle-mime-company-2/
LOCATION:Allentown Symphony – Miller Symphony Hall\, 23 N. 6th Street\, Allentown\, PA\, 18103\, United States
ATTACH;FMTTYPE=image/jpeg:https://dianewittry.com/wp-content/uploads/2020/06/Magic-Circle.jpg
END:VEVENT
BEGIN:VEVENT
DTSTART;TZID=UTC:20220220T150000
DTEND;TZID=UTC:20220220T170000
DTSTAMP:20260424T031710
CREATED:20210720T005847Z
LAST-MODIFIED:20211023T144047Z
UID:977-1645369200-1645376400@dianewittry.com
SUMMARY:Peter and the Wolf and Music from Around the World
DESCRIPTION:Serge Prokofiev’s famous story\, Peter and the Wolf\, is known and loved by people around the world.  Experience this classic performed by the Garden State Philharmonic\, as we take a trip around the world with additional music by Claude Debussy\, Ralph Vaughan Williams\, Harry Burleigh\, Scott Joplin\, Valerie Coleman\, and Zequinha de Abreu.  Featuring Narrator and Baritone\, Edward Pleasant\, this concert is great for people of all ages.
URL:https://dianewittry.com/event/peter-and-the-wolf-and-music-from-around-the-world-3/
LOCATION:Garden State Philharmonic Orchestra at The Grunin Center for the Arts\, 1 College Drive\, Toms River\, NJ\, 08754\, United States
ATTACH;FMTTYPE=image/jpeg:https://dianewittry.com/wp-content/uploads/2021/07/Edward-Pleasant-1-e1626899636833.jpg
END:VEVENT
BEGIN:VEVENT
DTSTART;TZID=UTC:20220213T140000
DTEND;TZID=UTC:20220213T160000
DTSTAMP:20260424T031710
CREATED:20200611T193608Z
LAST-MODIFIED:20211023T144644Z
UID:603-1644760800-1644768000@dianewittry.com
SUMMARY:Valentine's Day - Romeo & Juliet
DESCRIPTION:Samuel Vargas\, Violin\,  2021 Spinx 1st Prize Winner \nINTRODUCTION AND FANFARE – Chris Rogerson  (World Premiere)\nVIOLIN CONCERTO – Tchaikovsky\nSELECTIONS FROM ROMEO & JULIET – Prokofiev
URL:https://dianewittry.com/event/valentines-day-romeo-juliet-2/
LOCATION:Allentown Symphony – Miller Symphony Hall\, 23 N. 6th Street\, Allentown\, PA\, 18103\, United States
ATTACH;FMTTYPE=image/jpeg:https://dianewittry.com/wp-content/uploads/2020/06/Romeo-and-Juliet.jpg
END:VEVENT
BEGIN:VEVENT
DTSTART;TZID=UTC:20220212T193000
DTEND;TZID=UTC:20220212T213000
DTSTAMP:20260424T031710
CREATED:20200611T193345Z
LAST-MODIFIED:20211023T144739Z
UID:601-1644694200-1644701400@dianewittry.com
SUMMARY:Valentine's Day - Romeo & Juliet
DESCRIPTION:Samuel Vargas\, Violin\,  2021 Spinx 1st Prize Winner \nINTRODUCTION AND FANFARE – Chris Rogerson  (World Premiere)\nVIOLIN CONCERTO – Tchaikovsky\nSELECTIONS FROM ROMEO & JULIET – Prokofiev
URL:https://dianewittry.com/event/valentines-day-romeo-juliet/
LOCATION:Allentown Symphony – Miller Symphony Hall\, 23 N. 6th Street\, Allentown\, PA\, 18103\, United States
ATTACH;FMTTYPE=image/jpeg:https://dianewittry.com/wp-content/uploads/2020/06/Romeo-and-Juliet.jpg
ORGANIZER;CN="Allentown Symphony Orchestra":MAILTO:info@allentownsymphony.org
END:VEVENT
BEGIN:VEVENT
DTSTART;TZID=UTC:20211218T190000
DTEND;TZID=UTC:20211218T203000
DTSTAMP:20260424T031710
CREATED:20210110T200506Z
LAST-MODIFIED:20210110T200506Z
UID:812-1639854000-1639859400@dianewittry.com
SUMMARY:Holiday Pops Concert
DESCRIPTION:Join the Allentown Symphony for a fun concert of Holiday music.
URL:https://dianewittry.com/event/holiday-pops-concert/
LOCATION:Allentown Symphony – Miller Symphony Hall\, 23 N. 6th Street\, Allentown\, PA\, 18103\, United States
END:VEVENT
BEGIN:VEVENT
DTSTART;TZID=UTC:20211114T140000
DTEND;TZID=UTC:20211114T140000
DTSTAMP:20260424T031710
CREATED:20200611T192755Z
LAST-MODIFIED:20210110T212905Z
UID:599-1636898400-1636898400@dianewittry.com
SUMMARY:Beethoven's 7th Symphony
DESCRIPTION:Stefano Grecco\, Piano\nCORIOLAN OVERTURE – Beethoven\nPIANO CONCERTO No. 4 – Beethoven\nSYMPHONY No. 7 – Beethoven
URL:https://dianewittry.com/event/beethovens-ode-to-joy-2/
LOCATION:Allentown Symphony – Miller Symphony Hall\, 23 N. 6th Street\, Allentown\, PA\, 18103\, United States
ATTACH;FMTTYPE=image/jpeg:https://dianewittry.com/wp-content/uploads/2020/06/Beethoven.jpg
END:VEVENT
BEGIN:VEVENT
DTSTART;TZID=UTC:20211113T193000
DTEND;TZID=UTC:20211113T193000
DTSTAMP:20260424T031710
CREATED:20200611T192016Z
LAST-MODIFIED:20210110T213038Z
UID:588-1636831800-1636831800@dianewittry.com
SUMMARY:Beethoven's 7th Symphony
DESCRIPTION:Stefano Grecco\, Piano\nCORIOLAN OVERTURE – Beethoven\nPIANO CONCERTO No. 4 – Beethoven\nSYMPHONY No. 7 – Beethoven
URL:https://dianewittry.com/event/beethovens-ode-to-joy/
LOCATION:Allentown Symphony – Miller Symphony Hall\, 23 N. 6th Street\, Allentown\, PA\, 18103\, United States
ATTACH;FMTTYPE=image/jpeg:https://dianewittry.com/wp-content/uploads/2020/06/Beethoven.jpg
END:VEVENT
BEGIN:VEVENT
DTSTART;TZID=UTC:20211107T150000
DTEND;TZID=UTC:20211107T170000
DTSTAMP:20260424T031710
CREATED:20210720T005554Z
LAST-MODIFIED:20210721T203852Z
UID:975-1636297200-1636304400@dianewittry.com
SUMMARY:Women in Music
DESCRIPTION:Be moved by the beautiful melodies of the String Quartet in Eb Major by Fanny Mendelssohn Hensel\, sister of Felix Mendelsohn\, along with works by\, Florence Price\, Grazyna Bacewicz\, and Gabriela Lena Frank.  This concert will be performed by string musicians comprised of all women from the Garden State Philharmonic.
URL:https://dianewittry.com/event/women-in-music-3/
LOCATION:Garden State Philharmonic at Spring Lake Community Theatre\, 300 Madison Ave\, Spring Lake\, New Jersey\, 07762\, United States
ATTACH;FMTTYPE=image/jpeg:https://dianewittry.com/wp-content/uploads/2021/07/Gabriela_Lena_Frank_880-e1626899914332.jpg
END:VEVENT
BEGIN:VEVENT
DTSTART;TZID=UTC:20211102T190000
DTEND;TZID=UTC:20211102T210000
DTSTAMP:20260424T031710
CREATED:20210720T012453Z
LAST-MODIFIED:20210720T012453Z
UID:991-1635879600-1635886800@dianewittry.com
SUMMARY:ASO New Music Chamber Music Concert - Art and Music
DESCRIPTION:Join ASO Composer in Residence Chris Rogerson and local composers in an informal evening of new music inspired by Art.  Instrumentation for the concert will be:  Flute\, Clarinet\, Violin\, Cello\, Piano.
URL:https://dianewittry.com/event/aso-new-music-chamber-music-concert-art-and-music/
LOCATION:Allentown Symphony – Miller Symphony Hall\, 23 N. 6th Street\, Allentown\, PA\, 18103\, United States
END:VEVENT
BEGIN:VEVENT
DTSTART;TZID=UTC:20211031T150000
DTEND;TZID=UTC:20211031T170000
DTSTAMP:20260424T031710
CREATED:20210720T005328Z
LAST-MODIFIED:20210721T203958Z
UID:973-1635692400-1635699600@dianewittry.com
SUMMARY:Women in Music
DESCRIPTION:Be moved by the beautiful melodies of the String Quartet in Eb Major by Fanny Mendelssohn Hensel\, sister of Felix Mendelsohn\, along with works by\, Florence Price\, Grazyna Bacewicz\, and Gabriela Lena Frank.  This concert will be performed by string musicians comprised of all women from the Garden State Philharmonic.
URL:https://dianewittry.com/event/women-in-music-2/
LOCATION:Garden State Philharmonic Orchestra at The Grunin Center for the Arts\, 1 College Drive\, Toms River\, NJ\, 08754\, United States
ATTACH;FMTTYPE=image/jpeg:https://dianewittry.com/wp-content/uploads/2021/07/Gabriela_Lena_Frank_880-e1626899914332.jpg
END:VEVENT
BEGIN:VEVENT
DTSTART;TZID=UTC:20211010T140000
DTEND;TZID=UTC:20211010T160000
DTSTAMP:20260424T031710
CREATED:20200610T151649Z
LAST-MODIFIED:20210720T002918Z
UID:548-1633874400-1633881600@dianewittry.com
SUMMARY:Mendelssohn & Brahms
DESCRIPTION:George Li\, Piano \nOVERTURE NO. 1  Louise Farrenc\nSYMPHONY NO. 4 “ITALIAN”  Felix Mendelssohn\nPIANO CONCERTO NO. 1   Johannes Brahms
URL:https://dianewittry.com/event/brahms-and-rachmaninoff-2/
LOCATION:Allentown Symphony – Miller Symphony Hall\, 23 N. 6th Street\, Allentown\, PA\, 18103\, United States
ATTACH;FMTTYPE=image/jpeg:https://dianewittry.com/wp-content/uploads/2020/06/George-Li.jpg
ORGANIZER;CN="Allentown Symphony Orchestra":MAILTO:info@allentownsymphony.org
END:VEVENT
BEGIN:VEVENT
DTSTART;TZID=UTC:20211009T193000
DTEND;TZID=UTC:20211009T193000
DTSTAMP:20260424T031710
CREATED:20200610T151217Z
LAST-MODIFIED:20210720T003045Z
UID:545-1633807800-1633807800@dianewittry.com
SUMMARY:Mendelssohn & Brahms
DESCRIPTION:George Li\, Piano \nOVERTURE NO. 1  Louise Farrenc\nSYMPHONY NO. 4 “ITALIAN”  Felix Mendelssohn\nPIANO CONCERTO NO. 1   Johannes Brahms
URL:https://dianewittry.com/event/brahms-and-rachmaninoff/
LOCATION:Allentown Symphony – Miller Symphony Hall\, 23 N. 6th Street\, Allentown\, PA\, 18103\, United States
ATTACH;FMTTYPE=image/jpeg:https://dianewittry.com/wp-content/uploads/2020/06/George-Li.jpg
END:VEVENT
BEGIN:VEVENT
DTSTART;TZID=UTC:20211003T150000
DTEND;TZID=UTC:20211003T170000
DTSTAMP:20260424T031710
CREATED:20210720T004038Z
LAST-MODIFIED:20210721T204118Z
UID:966-1633273200-1633280400@dianewittry.com
SUMMARY:Strike Up the Band
DESCRIPTION:Enjoy music for Brass Ensemble from Civil War era Marches through Ragtime\, New Orleans Jazz\, and Blues and Swing music.  This concert features music by composers George Gershwin\, Scott Joplin\, C.W. Handy\, Duke Ellington\, and Louis Armstrong\, performed by the Garden State Philharmonic Brass and Percussion.
URL:https://dianewittry.com/event/strike-up-the-band/
LOCATION:Garden State Philharmonic Orchestra at The Grunin Center for the Arts\, 1 College Drive\, Toms River\, NJ\, 08754\, United States
ATTACH;FMTTYPE=image/jpeg:https://dianewittry.com/wp-content/uploads/2021/07/GSP-Brass-and-Percussion-1.jpg
END:VEVENT
BEGIN:VEVENT
DTSTART;TZID=UTC:20210926T150000
DTEND;TZID=UTC:20210926T170000
DTSTAMP:20260424T031710
CREATED:20210720T004938Z
LAST-MODIFIED:20210721T204208Z
UID:969-1632668400-1632675600@dianewittry.com
SUMMARY:Strike Up the Band
DESCRIPTION:Enjoy music for Brass Ensemble from Civil War era Marches through Ragtime\, New Orleans Jazz\, and Blues and Swing music.  This concert features music by composers George Gershwin\, Scott Joplin\, C.W. Handy\, Duke Ellington\, and Louis Armstrong\, performed by the Garden State Philharmonic Brass and Percussion.
URL:https://dianewittry.com/event/strike-up-the-band-2/
LOCATION:Garden State Philharmonic at Spring Lake Community Theatre\, 300 Madison Ave\, Spring Lake\, New Jersey\, 07762\, United States
ATTACH;FMTTYPE=image/jpeg:https://dianewittry.com/wp-content/uploads/2021/07/GSP-Brass-and-Percussion-1.jpg
END:VEVENT
BEGIN:VEVENT
DTSTART;VALUE=DATE:20210802
DTEND;VALUE=DATE:20210808
DTSTAMP:20260424T031710
CREATED:20200613T161029Z
LAST-MODIFIED:20210110T205114Z
UID:647-1627862400-1628380799@dianewittry.com
SUMMARY:Pacific Northwest Conductor's Institute
DESCRIPTION:CONDUCTING WORKSHOP\nJoin Diane Wittry and Anna Edwards in a week long Conducting Workshop. August 2-7\, 2021. Discussion topics will include Conducting Technique\, Programming\, Score Study\, Applying for Jobs\, and Leadership Skills\, as well as other topics. Repertoire to be announced soon. \nTo register go to: https://www.sowhidbey.com/pnwci.html \nConducting Technique\nConducting Tricky Musical Passages\nLeadership Skills – On and Off the Podium\nWorking with Soloists\nProgramming – Equity/Diversity/Inclusion\nScore Study\nBusiness of Conducting\nCareer Guidance
URL:https://dianewittry.com/event/pacific-northwest-conductors-institute/
LOCATION:PA
ATTACH;FMTTYPE=image/jpeg:https://dianewittry.com/wp-content/uploads/2020/06/Pacific-Northwest.jpg
END:VEVENT
END:VCALENDAR