BEGIN:VCALENDAR
VERSION:2.0
PRODID:-//Diane Wittry, Conductor - ECPv6.15.20//NONSGML v1.0//EN
CALSCALE:GREGORIAN
METHOD:PUBLISH
X-ORIGINAL-URL:https://dianewittry.com
X-WR-CALDESC:Events for Diane Wittry, Conductor
REFRESH-INTERVAL;VALUE=DURATION:PT1H
X-Robots-Tag:noindex
X-PUBLISHED-TTL:PT1H
BEGIN:VTIMEZONE
TZID:UTC
BEGIN:STANDARD
TZOFFSETFROM:+0000
TZOFFSETTO:+0000
TZNAME:UTC
DTSTART:20200101T000000
END:STANDARD
END:VTIMEZONE
BEGIN:VEVENT
DTSTART;TZID=UTC:20210612T193000
DTEND;TZID=UTC:20210612T210000
DTSTAMP:20260423T232439
CREATED:20210110T205833Z
LAST-MODIFIED:20210310T192113Z
UID:833-1623526200-1623531600@dianewittry.com
SUMMARY:Beloved Beethoven (Premiere Streaming On-Line)
DESCRIPTION:BEETHOVEN – Overture & Finale from Prometheus\nBEETHOVEN – Symphony No. 3 “Eroica” \nWe conclude our celebration of Beethoven’s 250th birthday this season with an exciting tribute to the master.  Please stay tuned for program details.
URL:https://dianewittry.com/event/beloved-beethoven/
LOCATION:PA
ORGANIZER;CN="Allentown Symphony Orchestra":MAILTO:info@allentownsymphony.org
END:VEVENT
BEGIN:VEVENT
DTSTART;TZID=UTC:20210529T193000
DTEND;TZID=UTC:20210529T210000
DTSTAMP:20260423T232439
CREATED:20210110T205606Z
LAST-MODIFIED:20210720T003430Z
UID:831-1622316600-1622322000@dianewittry.com
SUMMARY:Sublime Schubert (Premiere Streaming On-Line)
DESCRIPTION:HANDEL – Arrival of the Queen of Sheba\nCHRIS ROGERSON – In Passing\nGIOVANNI BOTTESINI – Concerto for Double Bass No. 2\, B minor\nPeter Paulsen\, ASO Principal Bass\nSCHUBERT – Symphony No. 5 \nMay begins as we welcome ASO Composer-in-Residence Chris Rogerson to the community with our first performance of his introspective In Passing. Then ASO Principal Bass Peter Paulsen will make a Paganini-like flourish in Bottesini’s Concerto for Double Bass No. 2. The program concludes with a spirited work by Schubert.
URL:https://dianewittry.com/event/sublime-schubert/
LOCATION:Allentown Symphony – Miller Symphony Hall\, 23 N. 6th Street\, Allentown\, PA\, 18103\, United States
ORGANIZER;CN="Allentown Symphony Orchestra":MAILTO:info@allentownsymphony.org
END:VEVENT
BEGIN:VEVENT
DTSTART;TZID=UTC:20210522T190000
DTEND;TZID=UTC:20210522T210000
DTSTAMP:20260423T232439
CREATED:20210110T225610Z
LAST-MODIFIED:20210310T192302Z
UID:853-1621710000-1621717200@dianewittry.com
SUMMARY:Beloved Beethoven
DESCRIPTION:BEETHOVEN – Overture & Finale from Prometheus\nBEETHOVEN – Symphony No. 3 “Eroica” \nWe conclude our celebration of Beethoven’s 250th birthday this season with an exciting tribute to the master.  Please stay tuned for program details.
URL:https://dianewittry.com/event/beloved-beethoven-2/
LOCATION:Allentown Symphony – Miller Symphony Hall\, 23 N. 6th Street\, Allentown\, PA\, 18103\, United States
ORGANIZER;CN="Allentown Symphony Orchestra":MAILTO:info@allentownsymphony.org
END:VEVENT
BEGIN:VEVENT
DTSTART;TZID=UTC:20210508T190000
DTEND;TZID=UTC:20210508T210000
DTSTAMP:20260423T232439
CREATED:20210110T225917Z
LAST-MODIFIED:20210720T003649Z
UID:856-1620500400-1620507600@dianewittry.com
SUMMARY:Sublime Schubert
DESCRIPTION:HANDEL – Arrival of the Queen of Sheba\nCHRIS ROGERSON – In Passing\nGIOVANNI BOTTESINI – Concerto for Double Bass No. 2\, B minor\nPeter Paulsen\, ASO Principal Bass\nSCHUBERT – Symphony No. 5 \nMay begins as we welcome ASO Composer-in-Residence Chris Rogerson to the community with our first performance of his introspective In Passing. Then ASO Principal Bass Peter Paulsen will make a Paganini-like flourish in Bottesini’s Concerto for Double Bass No. 2. The program concludes with a spirited work by Schubert.
URL:https://dianewittry.com/event/sublime-schubert-2/
LOCATION:Allentown Symphony – Miller Symphony Hall\, 23 N. 6th Street\, Allentown\, PA\, 18103\, United States
ORGANIZER;CN="Allentown Symphony Orchestra":MAILTO:info@allentownsymphony.org
END:VEVENT
BEGIN:VEVENT
DTSTART;TZID=UTC:20210501T193000
DTEND;TZID=UTC:20210501T210000
DTSTAMP:20260423T232439
CREATED:20210110T203856Z
LAST-MODIFIED:20210310T190905Z
UID:824-1619897400-1619902800@dianewittry.com
SUMMARY:Magnificent Mozart (Premiere Streaming On-Line)
DESCRIPTION:LOUISE FERRENC – Overture No. 2 in Eb Major\nNERUDA – Corno da caccia Concerto in Eb Major\nOmri Barak\, ASO Principal Trumpet\nMOZART – Symphony No. 40 \nMusicians of the ASO usher in springtime with a delightful program featuring ASO Principal Trumpet Omri Barak (Neruda Trumpet Concerto) and works by Louise Ferrenc and Mozart.
URL:https://dianewittry.com/event/magnificent-mozart/
LOCATION:Allentown Symphony – Miller Symphony Hall\, 23 N. 6th Street\, Allentown\, PA\, 18103\, United States
ORGANIZER;CN="Allentown Symphony Orchestra":MAILTO:info@allentownsymphony.org
END:VEVENT
BEGIN:VEVENT
DTSTART;TZID=UTC:20210424T193000
DTEND;TZID=UTC:20210424T203000
DTSTAMP:20260423T232439
CREATED:20210310T194039Z
LAST-MODIFIED:20210310T194039Z
UID:938-1619292600-1619296200@dianewittry.com
SUMMARY:ASO New Music - Chamber Music Concert (Premiere Streaming On-line)
DESCRIPTION:PIERRE BOHEMOND – Shores of Phoenicia\nLAWRENCE FLYNN – Emerson’s River\nPAUL SELERNI – Golden Retrievals\nAVA BOOMFIELD – A Bird Song\nLIAM MULLIGAN – Tusaidie\nMORGAN MOSS – The Brook\nCHRIS ROGERSON – Fishing\nVALERIE COLEMAN – Portrait of Langston\nHarlem’s Summer Night\nA Parisian Cafe \nFeaturing works by composers from the Lehigh Valley region curated by Composer in Residence\, Chris Rogerson\,
URL:https://dianewittry.com/event/aso-new-music-chamber-music-concert-premiere-streaming-on-line/
LOCATION:Allentown Symphony – Miller Symphony Hall\, 23 N. 6th Street\, Allentown\, PA\, 18103\, United States
ORGANIZER;CN="Allentown Symphony Orchestra":MAILTO:info@allentownsymphony.org
END:VEVENT
BEGIN:VEVENT
DTSTART;TZID=UTC:20210417T190000
DTEND;TZID=UTC:20210417T210000
DTSTAMP:20260423T232439
CREATED:20210110T230616Z
LAST-MODIFIED:20210310T190818Z
UID:861-1618686000-1618693200@dianewittry.com
SUMMARY:Magnificent Mozart
DESCRIPTION:LOUISE FERRENC – Overture No. 2 in Eb Major\nNERUDA – Corno da caccia Concerto in Eb Major\nOmri Barak\, ASO Principal Trumpet\nMOZART – Symphony No. 40 \nMusicians of the ASO usher in springtime with a delightful program featuring ASO Principal Trumpet Omri Barak (Neruda Trumpet Concerto) and works by Louise Ferrenc and Mozart.
URL:https://dianewittry.com/event/magnificent-mozart-2/
LOCATION:Allentown Symphony – Miller Symphony Hall\, 23 N. 6th Street\, Allentown\, PA\, 18103\, United States
ORGANIZER;CN="Allentown Symphony Orchestra":MAILTO:info@allentownsymphony.org
END:VEVENT
BEGIN:VEVENT
DTSTART;TZID=UTC:20210406T070000
DTEND;TZID=UTC:20210406T203000
DTSTAMP:20260423T232439
CREATED:20210110T225357Z
LAST-MODIFIED:20210310T193743Z
UID:851-1617692400-1617741000@dianewittry.com
SUMMARY:ASO New Music - Chamber Music Concert
DESCRIPTION:PIERRE BOHEMOND – Shores of Phoenicia\nLAWRENCE FLYNN – Emerson’s River\nPAUL SELERNI – Golden Retrievals\nAVA BOOMFIELD – A Bird Song\nLIAM MULLIGAN – Tusaidie\nMORGAN MOSS – The Brook\nCHRIS ROGERSON – Fishing\nVALERIE COLEMAN – Portrait of Langston\nHarlem’s Summer Night\nA Parisian Cafe \nFeaturing works by composers from the Lehigh Valley region curated by Composer in Residence\, Chris Rogerson\,
URL:https://dianewittry.com/event/aso-new-music-chamber-music-concert/
LOCATION:Allentown Symphony – Miller Symphony Hall\, 23 N. 6th Street\, Allentown\, PA\, 18103\, United States
ORGANIZER;CN="Allentown Symphony Orchestra":MAILTO:info@allentownsymphony.org
END:VEVENT
BEGIN:VEVENT
DTSTART;TZID=UTC:20210327T193000
DTEND;TZID=UTC:20210327T210000
DTSTAMP:20260423T232439
CREATED:20210110T203059Z
LAST-MODIFIED:20210310T184140Z
UID:821-1616873400-1616878800@dianewittry.com
SUMMARY:Irina Muresanu Returns (Premiere Streaming On-line)
DESCRIPTION:FLORENCE PRICE – Juba from String Quartet No. 2\nENESCU  Romanian Rhapsody No. 1\nIrina Muresanu\, Violin\nBRAHMS  Hungarian Dances with Solo Violin\nIrina Muresanu\, Violin\nDVOŘÁK   String Quartet No. 12 in F major\, Op. 96 “American” \n 
URL:https://dianewittry.com/event/irina-muresanu-returns/
LOCATION:Allentown Symphony – Miller Symphony Hall\, 23 N. 6th Street\, Allentown\, PA\, 18103\, United States
END:VEVENT
BEGIN:VEVENT
DTSTART;TZID=UTC:20210326T193000
DTEND;TZID=UTC:20210326T210000
DTSTAMP:20260423T232439
CREATED:20210318T151126Z
LAST-MODIFIED:20210318T152637Z
UID:945-1616787000-1616792400@dianewittry.com
SUMMARY:GSP - Women in Music
DESCRIPTION:In honor of Women’s History Month\, join us for a virtual chamber music concert with members from South Orange Symphony and Garden State Philharmonic showcasing the music of women composers throughout the last 200 years.  The Garden State Philharmonic Orchestra is director by Diane Wittry and the South Orange Symphony is led by Susan Haig. It is rare to have two Symphony Orchestras conducted by women in the same region. The majority of the performers on this concert will also be women. \nTwo prominent women composers featured during the program are Valerie Coleman\, a living African-American composer who was named Performance Today’s 2020 “Classical Woman of the Year\,” and Florence Price\, who was the 1st African-American composer to have a work performed by a major Symphony Orchestra – in 1933 the Chicago Symphony performed her Symphony No. 1. The concert will include “Umoja” (which means “Unity” in Swahili) by Coleman\, and the “Andante” from String Quartet No. 2 by Price. \nMusic by Gabriela Lena Frank\, another living composer who is of Latin-American heritage will also be performed. Ms. Frank is currently the Composer in Residence with the Philadelphia Orchestra. Her piece “Coqueteos” from Leyendas: An Andean Walkabout mixes elements from the western Classical and Andean Folk music traditions. \nOther pieces on the concert include Fanny Mendelssohn-Hensel’s String Quartet in Eb Major\, and the final movement of Polish composer Grazyna Bacewicz’s award winning String Quartet No. 4. Fanny was the sister of the famous composer Felix Mendelssohn\, and Grazyna Bacewicz’s music won numerous awards and recognition during her lifetime. \nGarden State Philharmonic\, a professional orchestra based at the Jersey Shore\, has been bringing music to the residents of New Jersey for over 65 years. Under the artistic leadership of Conductor Diane Wittry\, the GSP has expanded their concert season and is now performing in Essex and Monmouth Counties\, as well as Ocean County. \nPresented by the Maplewood Division of Arts & Culture\, Maplewood Department of Community Services\, South Orange Village and SOPAC.Generously supported by Pollock Properties Group\, Keller Williams Premier Properties and Matt Kean Guaranteed Rate. 
URL:https://dianewittry.com/event/women-in-music/
LOCATION:South Orange Performing Arts Center\, One SOPAC Way\,\, South Orange\, NJ\, 07079\, United States
END:VEVENT
BEGIN:VEVENT
DTSTART;TZID=UTC:20210313T190000
DTEND;TZID=UTC:20210313T203000
DTSTAMP:20260423T232439
CREATED:20210110T231020Z
LAST-MODIFIED:20210310T184049Z
UID:864-1615662000-1615667400@dianewittry.com
SUMMARY:Irina Muresanu Returns
DESCRIPTION:FLORENCE PRICE – Juba from String Quartet No. 2\nENESCU  Romanian Rhapsody No. 1\nIrina Muresanu\, Violin\nBRAHMS  Hungarian Dances with Solo Violin\nIrina Muresanu\, Violin\nDVOŘÁK   String Quartet No. 12 in F major\, Op. 96 “American” \n 
URL:https://dianewittry.com/event/irina-muresanu-returns-2/
LOCATION:Allentown Symphony – Miller Symphony Hall\, 23 N. 6th Street\, Allentown\, PA\, 18103\, United States
END:VEVENT
BEGIN:VEVENT
DTSTART;TZID=UTC:20210227T193000
DTEND;TZID=UTC:20210227T210000
DTSTAMP:20260423T232439
CREATED:20210110T202018Z
LAST-MODIFIED:20210110T231430Z
UID:817-1614454200-1614459600@dianewittry.com
SUMMARY:An Evening of Romance (Premiere Streaming On-Line)
DESCRIPTION:ELGAR – Salut d’Amour\nSAINT-SAЁNS – Allegro Appassionato\nJameson Platte\, Cello\, ASO Acting Principal\nRACHMANINOF -“Vocalise”\nBEETHOVEN -Romance for Violin in F major\nEliezer Gutman\, Violin\, ASO Concertmaster\nBRAHMS – Piano Quartet No 1 in G minor\, Op. 25
URL:https://dianewittry.com/event/an-evening-of-romance/
LOCATION:Allentown Symphony – Miller Symphony Hall\, 23 N. 6th Street\, Allentown\, PA\, 18103\, United States
ORGANIZER;CN="Allentown Symphony Orchestra":MAILTO:info@allentownsymphony.org
END:VEVENT
BEGIN:VEVENT
DTSTART;TZID=UTC:20210213T190000
DTEND;TZID=UTC:20210213T203000
DTSTAMP:20260423T232439
CREATED:20210110T231328Z
LAST-MODIFIED:20210110T231328Z
UID:867-1613242800-1613248200@dianewittry.com
SUMMARY:An Evening of Romance
DESCRIPTION:ELGAR – Salut d’Amour\nSAINT-SAЁNS – Allegro Appassionato\nJameson Platte\, Cello\, ASO Acting Principal\nRACHMANINOF -“Vocalise”\nBEETHOVEN -Romance for Violin in F major\nEliezer Gutman\, Violin\, ASO Concertmaster\nBRAHMS – Piano Quartet No 1 in G minor\, Op. 25
URL:https://dianewittry.com/event/an-evening-of-romance-2/
LOCATION:Allentown Symphony – Miller Symphony Hall\, 23 N. 6th Street\, Allentown\, PA\, 18103\, United States
ORGANIZER;CN="Allentown Symphony Orchestra":MAILTO:info@allentownsymphony.org
END:VEVENT
BEGIN:VEVENT
DTSTART;TZID=UTC:20210130T140000
DTEND;TZID=UTC:20210130T150000
DTSTAMP:20260423T232439
CREATED:20210110T200823Z
LAST-MODIFIED:20210110T231913Z
UID:814-1612015200-1612018800@dianewittry.com
SUMMARY:Peter and the Wolf and Music from Around the World (Premiere Streaming On-Line)
DESCRIPTION:Each year families throughout the region mark their calendars for the Allentown Symphony’s fun-filled adventure in music. Young or old\, audiences love Prokofiev’s delightful journey in music\, which helps children identify different instruments of the orchestra while its story about Peter and his animal friends captivates their imaginations.  Featuring an Allentown Symphony all-star woodwind quintet\, percussion\, narrator\, and a visual partnership with The Baum School of Art. This concert will also feature music from around the world. \nUMOJA Valerie Coleman\nSEVENTEEN COME SUNDAY Vaughan William\nARIRANG Folk Song\nEN BATEAU (ON A BOAT) Debussy\nTHE ENTERTAINER Joplin\nPETER AND THE WOLF Prokofiev\nTICO TICO NON FUBA Zequinha de Abreu \n 
URL:https://dianewittry.com/event/peter-and-the-wolf-and-music-from-around-the-world/
LOCATION:Allentown Symphony – Miller Symphony Hall\, 23 N. 6th Street\, Allentown\, PA\, 18103\, United States
END:VEVENT
BEGIN:VEVENT
DTSTART;TZID=UTC:20210123T150000
DTEND;TZID=UTC:20210123T160000
DTSTAMP:20260423T232439
CREATED:20210110T231615Z
LAST-MODIFIED:20210110T231827Z
UID:870-1611414000-1611417600@dianewittry.com
SUMMARY:Peter and the Wolf and Music from Around the World
DESCRIPTION:Each year families throughout the region mark their calendars for the Allentown Symphony’s fun-filled adventure in music. Young or old\, audiences love Prokofiev’s delightful journey in music\, which helps children identify different instruments of the orchestra while its story about Peter and his animal friends captivates their imaginations.  Featuring an Allentown Symphony all-star woodwind quintet\, percussion\, narrator\, and a visual partnership with The Baum School of Art. This concert will also feature music from around the world. \nUMOJA Valerie Coleman\nSEVENTEEN COME SUNDAY Vaughan William\nARIRANG Folk Song\nEN BATEAU (ON A BOAT) Debussy\nTHE ENTERTAINER Joplin\nPETER AND THE WOLF Prokofiev\nTICO TICO NON FUBA Zequinha de Abreu \n 
URL:https://dianewittry.com/event/peter-and-the-wolf-and-music-from-around-the-world-2/
LOCATION:Allentown Symphony – Miller Symphony Hall\, 23 N. 6th Street\, Allentown\, PA\, 18103\, United States
END:VEVENT
END:VCALENDAR