BEGIN:VCALENDAR
VERSION:2.0
PRODID:-//Diane Wittry, Conductor - ECPv6.15.20//NONSGML v1.0//EN
CALSCALE:GREGORIAN
METHOD:PUBLISH
X-WR-CALNAME:Diane Wittry, Conductor
X-ORIGINAL-URL:https://dianewittry.com
X-WR-CALDESC:Events for Diane Wittry, Conductor
REFRESH-INTERVAL;VALUE=DURATION:PT1H
X-Robots-Tag:noindex
X-PUBLISHED-TTL:PT1H
BEGIN:VTIMEZONE
TZID:America/New_York
BEGIN:DAYLIGHT
TZOFFSETFROM:-0500
TZOFFSETTO:-0400
TZNAME:EDT
DTSTART:20240310T070000
END:DAYLIGHT
BEGIN:STANDARD
TZOFFSETFROM:-0400
TZOFFSETTO:-0500
TZNAME:EST
DTSTART:20241103T060000
END:STANDARD
BEGIN:DAYLIGHT
TZOFFSETFROM:-0500
TZOFFSETTO:-0400
TZNAME:EDT
DTSTART:20250309T070000
END:DAYLIGHT
BEGIN:STANDARD
TZOFFSETFROM:-0400
TZOFFSETTO:-0500
TZNAME:EST
DTSTART:20251102T060000
END:STANDARD
BEGIN:DAYLIGHT
TZOFFSETFROM:-0500
TZOFFSETTO:-0400
TZNAME:EDT
DTSTART:20260308T070000
END:DAYLIGHT
BEGIN:STANDARD
TZOFFSETFROM:-0400
TZOFFSETTO:-0500
TZNAME:EST
DTSTART:20261101T060000
END:STANDARD
END:VTIMEZONE
BEGIN:VEVENT
DTSTART;TZID=America/New_York:20250406T150000
DTEND;TZID=America/New_York:20250406T170000
DTSTAMP:20260424T095257
CREATED:20241119T204612Z
LAST-MODIFIED:20241119T204612Z
UID:1820-1743951600-1743958800@dianewittry.com
SUMMARY:Young Musicians String Festival
DESCRIPTION:Allentown Symphony Orchestra \nThe Allentown Symphony Orchestra’s Young Musician String Festival is comprised of students from the Greater Lehigh Valley. Students receive music in advance to practice and meet to rehearse with Diane Wittry\, ASO musicians\, and El Systema Lehigh Valley teaching artists before the performance at Miller Symphony Hall. This is one of many ASO Education Programs.
URL:https://dianewittry.com/event/young-musicians-string-festival/
LOCATION:Allentown Symphony – Miller Symphony Hall\, 23 N. 6th Street\, Allentown\, PA\, 18103\, United States
ATTACH;FMTTYPE=image/jpeg:https://dianewittry.com/wp-content/uploads/2024/11/Young-Musicians-Concert.jpg
ORGANIZER;CN="Allentown Symphony Orchestra":MAILTO:info@allentownsymphony.org
END:VEVENT
BEGIN:VEVENT
DTSTART;TZID=America/New_York:20250426T193000
DTEND;TZID=America/New_York:20250426T213000
DTSTAMP:20260424T095257
CREATED:20241113T200544Z
LAST-MODIFIED:20241113T200544Z
UID:1751-1745695800-1745703000@dianewittry.com
SUMMARY:Tchaikovsky's 5th
DESCRIPTION:Allentown Symphony Orchestra\nDiane Wittry Conductor\nGaeun Kim Cello \nClarice Assad\n“Frankenstein” World Premiere\nAulis Sallinen\nCello Concerto\, Op. 44\nPiotr Ilyich Tchaikovsky\nSymphony No. 5
URL:https://dianewittry.com/event/tchaikovskys-5th/
LOCATION:Allentown Symphony – Miller Symphony Hall\, 23 N. 6th Street\, Allentown\, PA\, 18103\, United States
ATTACH;FMTTYPE=image/jpeg:https://dianewittry.com/wp-content/uploads/2024/11/Tchaikovsky.jpg
ORGANIZER;CN="Allentown Symphony Orchestra":MAILTO:info@allentownsymphony.org
END:VEVENT
BEGIN:VEVENT
DTSTART;TZID=America/New_York:20250427T140000
DTEND;TZID=America/New_York:20250427T160000
DTSTAMP:20260424T095257
CREATED:20241113T200755Z
LAST-MODIFIED:20250715T170724Z
UID:1754-1745762400-1745769600@dianewittry.com
SUMMARY:Tchaikovsky's 5th
DESCRIPTION:Allentown Symphony Orchestra\nDiane Wittry Conductor\nGaeun Kim Cello \nClarice Assad\n“Frankenstein” World Premiere\nAulis Sallinen\nCello Concerto\, Op. 44\nPiotr Ilyich Tchaikovsky\nSymphony No. 5
URL:https://dianewittry.com/event/tchaikovskys-5th-2/
LOCATION:Allentown Symphony – Miller Symphony Hall\, 23 N. 6th Street\, Allentown\, PA\, 18103\, United States
ATTACH;FMTTYPE=image/jpeg:https://dianewittry.com/wp-content/uploads/2024/11/Tchaikovsky.jpg
ORGANIZER;CN="Allentown Symphony Orchestra":MAILTO:info@allentownsymphony.org
END:VEVENT
END:VCALENDAR