BEGIN:VCALENDAR
VERSION:2.0
PRODID:-//Diane Wittry, Conductor - ECPv6.15.20//NONSGML v1.0//EN
CALSCALE:GREGORIAN
METHOD:PUBLISH
X-ORIGINAL-URL:https://dianewittry.com
X-WR-CALDESC:Events for Diane Wittry, Conductor
REFRESH-INTERVAL;VALUE=DURATION:PT1H
X-Robots-Tag:noindex
X-PUBLISHED-TTL:PT1H
BEGIN:VTIMEZONE
TZID:America/New_York
BEGIN:DAYLIGHT
TZOFFSETFROM:-0500
TZOFFSETTO:-0400
TZNAME:EDT
DTSTART:20240310T070000
END:DAYLIGHT
BEGIN:STANDARD
TZOFFSETFROM:-0400
TZOFFSETTO:-0500
TZNAME:EST
DTSTART:20241103T060000
END:STANDARD
BEGIN:DAYLIGHT
TZOFFSETFROM:-0500
TZOFFSETTO:-0400
TZNAME:EDT
DTSTART:20250309T070000
END:DAYLIGHT
BEGIN:STANDARD
TZOFFSETFROM:-0400
TZOFFSETTO:-0500
TZNAME:EST
DTSTART:20251102T060000
END:STANDARD
BEGIN:DAYLIGHT
TZOFFSETFROM:-0500
TZOFFSETTO:-0400
TZNAME:EDT
DTSTART:20260308T070000
END:DAYLIGHT
BEGIN:STANDARD
TZOFFSETFROM:-0400
TZOFFSETTO:-0500
TZNAME:EST
DTSTART:20261101T060000
END:STANDARD
END:VTIMEZONE
BEGIN:VEVENT
DTSTART;TZID=America/New_York:20250517T140000
DTEND;TZID=America/New_York:20250517T160000
DTSTAMP:20260424T081116
CREATED:20241113T203003Z
LAST-MODIFIED:20241113T203003Z
UID:1758-1747490400-1747497600@dianewittry.com
SUMMARY:Night at the Movies - John Williams & More
DESCRIPTION:Allentown Symphony Orchestra\nDiane Wittry Conductor \nEnjoy some of the best music ever written for the cinema\, including Star Wars\, Seven Years in Tibet and other pieces by John Williams\, as well as cinematic music by Elmer Bernstein (Magnificent 7)\, James Horner (Titanic\, Avatar)\, Enrico Morricone\, Marvin Hamlish\, and more!
URL:https://dianewittry.com/event/night-at-the-movies-john-williams-more/
LOCATION:Allentown Symphony – Miller Symphony Hall\, 23 N. 6th Street\, Allentown\, PA\, 18103\, United States
ATTACH;FMTTYPE=image/jpeg:https://dianewittry.com/wp-content/uploads/2024/11/Movies.jpg
ORGANIZER;CN="Allentown Symphony Orchestra":MAILTO:info@allentownsymphony.org
END:VEVENT
BEGIN:VEVENT
DTSTART;TZID=America/New_York:20250517T193000
DTEND;TZID=America/New_York:20250517T213000
DTSTAMP:20260424T081116
CREATED:20241113T204647Z
LAST-MODIFIED:20241113T204647Z
UID:1761-1747510200-1747517400@dianewittry.com
SUMMARY:Night at the Movies - John Williams & More
DESCRIPTION:Allentown Symphony Orchestra\nDiane Wittry Conductor \nEnjoy some of the best music ever written for the cinema\, including Star Wars\, Seven Years in Tibet and other pieces by John Williams\, as well as cinematic music by Elmer Bernstein (Magnificent 7)\, James Horner (Titanic\, Avatar)\, Enrico Morricone\, Marvin Hamlish\, and more!
URL:https://dianewittry.com/event/night-at-the-movies-john-williams-more-2/
LOCATION:Allentown Symphony – Miller Symphony Hall\, 23 N. 6th Street\, Allentown\, PA\, 18103\, United States
ATTACH;FMTTYPE=image/jpeg:https://dianewittry.com/wp-content/uploads/2024/11/Movies.jpg
ORGANIZER;CN="Allentown Symphony Orchestra":MAILTO:info@allentownsymphony.org
END:VEVENT
END:VCALENDAR