BEGIN:VCALENDAR
VERSION:2.0
PRODID:-//Diane Wittry, Conductor - ECPv6.15.20//NONSGML v1.0//EN
CALSCALE:GREGORIAN
METHOD:PUBLISH
X-WR-CALNAME:Diane Wittry, Conductor
X-ORIGINAL-URL:https://dianewittry.com
X-WR-CALDESC:Events for Diane Wittry, Conductor
REFRESH-INTERVAL;VALUE=DURATION:PT1H
X-Robots-Tag:noindex
X-PUBLISHED-TTL:PT1H
BEGIN:VTIMEZONE
TZID:America/Los_Angeles
BEGIN:DAYLIGHT
TZOFFSETFROM:-0800
TZOFFSETTO:-0700
TZNAME:PDT
DTSTART:20240310T100000
END:DAYLIGHT
BEGIN:STANDARD
TZOFFSETFROM:-0700
TZOFFSETTO:-0800
TZNAME:PST
DTSTART:20241103T090000
END:STANDARD
BEGIN:DAYLIGHT
TZOFFSETFROM:-0800
TZOFFSETTO:-0700
TZNAME:PDT
DTSTART:20250309T100000
END:DAYLIGHT
BEGIN:STANDARD
TZOFFSETFROM:-0700
TZOFFSETTO:-0800
TZNAME:PST
DTSTART:20251102T090000
END:STANDARD
BEGIN:DAYLIGHT
TZOFFSETFROM:-0800
TZOFFSETTO:-0700
TZNAME:PDT
DTSTART:20260308T100000
END:DAYLIGHT
BEGIN:STANDARD
TZOFFSETFROM:-0700
TZOFFSETTO:-0800
TZNAME:PST
DTSTART:20261101T090000
END:STANDARD
END:VTIMEZONE
BEGIN:VEVENT
DTSTART;VALUE=DATE:20250805
DTEND;VALUE=DATE:20250811
DTSTAMP:20260424T025700
CREATED:20241119T205745Z
LAST-MODIFIED:20241119T205745Z
UID:1827-1754352000-1754870399@dianewittry.com
SUMMARY:Pacific Northwest Conducting Institute 2025
DESCRIPTION:Pacific Northwest Conducting Institute \nConductors Diane Wittry and Anna Edwards teach a week long conducting course on beautiful Whidbey Island\, Washington\, off the coast of Seattle.  August 4 – 9\, 2025.  Repertoire TBA  Conducting Fellows will participate in a concert at the conclusion of the workshop. \n  \n  \n 
URL:https://dianewittry.com/event/pacific-northwest-conducting-institute-2025/
LOCATION:Whidbey Island Performing Arts Center\, Langley\, WA\, United States
END:VEVENT
END:VCALENDAR