BEGIN:VCALENDAR
VERSION:2.0
PRODID:-//Diane Wittry, Conductor - ECPv6.15.20//NONSGML v1.0//EN
CALSCALE:GREGORIAN
METHOD:PUBLISH
X-WR-CALNAME:Diane Wittry, Conductor
X-ORIGINAL-URL:https://dianewittry.com
X-WR-CALDESC:Events for Diane Wittry, Conductor
REFRESH-INTERVAL;VALUE=DURATION:PT1H
X-Robots-Tag:noindex
X-PUBLISHED-TTL:PT1H
BEGIN:VTIMEZONE
TZID:America/New_York
BEGIN:DAYLIGHT
TZOFFSETFROM:-0500
TZOFFSETTO:-0400
TZNAME:EDT
DTSTART:20240310T070000
END:DAYLIGHT
BEGIN:STANDARD
TZOFFSETFROM:-0400
TZOFFSETTO:-0500
TZNAME:EST
DTSTART:20241103T060000
END:STANDARD
BEGIN:DAYLIGHT
TZOFFSETFROM:-0500
TZOFFSETTO:-0400
TZNAME:EDT
DTSTART:20250309T070000
END:DAYLIGHT
BEGIN:STANDARD
TZOFFSETFROM:-0400
TZOFFSETTO:-0500
TZNAME:EST
DTSTART:20251102T060000
END:STANDARD
BEGIN:DAYLIGHT
TZOFFSETFROM:-0500
TZOFFSETTO:-0400
TZNAME:EDT
DTSTART:20260308T070000
END:DAYLIGHT
BEGIN:STANDARD
TZOFFSETFROM:-0400
TZOFFSETTO:-0500
TZNAME:EST
DTSTART:20261101T060000
END:STANDARD
END:VTIMEZONE
BEGIN:VEVENT
DTSTART;TZID=America/New_York:20251206T130000
DTEND;TZID=America/New_York:20251206T150000
DTSTAMP:20260423T200152
CREATED:20250726T183357Z
LAST-MODIFIED:20250726T183942Z
UID:1985-1765026000-1765033200@dianewittry.com
SUMMARY:Nutcracker with Repertory Dance Theatre
DESCRIPTION:Repertory Dance Theatre\nAllentown Symphony Orchestra\nDiane  Wittry\, Conductor \nThe magic of Repertory Dance Theatre‘s Nutcracker brings enchantment to your holidays. Professional guest artists are joined by a cast of 100 dancers with Tchaikovsky’s beloved score performed live by the Allentown Symphony\, with conductor Diane Wittry.
URL:https://dianewittry.com/event/nutcracker-with-repertory-dance-theatre-2/
LOCATION:Allentown Symphony – Miller Symphony Hall\, 23 N. 6th Street\, Allentown\, PA\, 18103\, United States
ATTACH;FMTTYPE=image/jpeg:https://dianewittry.com/wp-content/uploads/2024/11/nutcracker.jpeg
ORGANIZER;CN="Allentown Symphony Orchestra":MAILTO:info@allentownsymphony.org
END:VEVENT
BEGIN:VEVENT
DTSTART;TZID=America/New_York:20251206T173000
DTEND;TZID=America/New_York:20251206T193000
DTSTAMP:20260423T200152
CREATED:20250726T183729Z
LAST-MODIFIED:20250726T183840Z
UID:1988-1765042200-1765049400@dianewittry.com
SUMMARY:Nutcracker with Repertory Dance Theatre
DESCRIPTION:Repertory Dance Theatre\nAllentown Symphony Orchestra\nDiane  Wittry\, Conductor \nThe magic of Repertory Dance Theatre‘s Nutcracker brings enchantment to your holidays. Professional guest artists are joined by a cast of 100 dancers with Tchaikovsky’s beloved score performed live by the Allentown Symphony\, with conductor Diane Wittry.
URL:https://dianewittry.com/event/nutcracker-with-repertory-dance-theatre-3/
LOCATION:Allentown Symphony – Miller Symphony Hall\, 23 N. 6th Street\, Allentown\, PA\, 18103\, United States
ATTACH;FMTTYPE=image/jpeg:https://dianewittry.com/wp-content/uploads/2024/11/nutcracker.jpeg
ORGANIZER;CN="Allentown Symphony Orchestra":MAILTO:info@allentownsymphony.org
END:VEVENT
BEGIN:VEVENT
DTSTART;TZID=America/New_York:20251220T140000
DTEND;TZID=America/New_York:20251220T163000
DTSTAMP:20260423T200152
CREATED:20250726T131850Z
LAST-MODIFIED:20250726T131850Z
UID:1972-1766239200-1766248200@dianewittry.com
SUMMARY:ASO Pops 2 - Holiday Pops!
DESCRIPTION:Allentown Symphony Orchestra\nDiane Wittry\, Conductor\nAlly Mauzey\, Vocalist\nEmmaus High School Chorale \nA concert featuring all your favorite Holiday songs\, along with singers and dancers\, a special “gift” give-a-way\, and an audience sing-a-long!  Get your tickets early because these shows always sell out!
URL:https://dianewittry.com/event/aso-pops-2-holiday-pops/
LOCATION:Allentown Symphony – Miller Symphony Hall\, 23 N. 6th Street\, Allentown\, PA\, 18103\, United States
ORGANIZER;CN="Allentown Symphony Orchestra":MAILTO:info@allentownsymphony.org
END:VEVENT
BEGIN:VEVENT
DTSTART;TZID=America/New_York:20251220T193000
DTEND;TZID=America/New_York:20251220T213000
DTSTAMP:20260423T200152
CREATED:20241116T221048Z
LAST-MODIFIED:20250726T131716Z
UID:1794-1766259000-1766266200@dianewittry.com
SUMMARY:ASO Pops 2 - Holiday Pops!
DESCRIPTION:Allentown Symphony Orchestra\nDiane Wittry\, Conductor\nAlly Mauzey\, Vocalist\nEmmaus High School Chorale \nA concert featuring all your favorite Holiday songs\, along with singers and dancers\, a special “gift” give-a-way\, and an audience sing-a-long!  Get your tickets early because these shows always sell out!
URL:https://dianewittry.com/event/aso-pops-2-2/
LOCATION:Allentown Symphony – Miller Symphony Hall\, 23 N. 6th Street\, Allentown\, PA\, 18103\, United States
ORGANIZER;CN="Allentown Symphony Orchestra":MAILTO:info@allentownsymphony.org
END:VEVENT
END:VCALENDAR