BEGIN:VCALENDAR
VERSION:2.0
PRODID:-//Diane Wittry, Conductor - ECPv6.15.20//NONSGML v1.0//EN
CALSCALE:GREGORIAN
METHOD:PUBLISH
X-WR-CALNAME:Diane Wittry, Conductor
X-ORIGINAL-URL:https://dianewittry.com
X-WR-CALDESC:Events for Diane Wittry, Conductor
REFRESH-INTERVAL;VALUE=DURATION:PT1H
X-Robots-Tag:noindex
X-PUBLISHED-TTL:PT1H
BEGIN:VTIMEZONE
TZID:America/New_York
BEGIN:DAYLIGHT
TZOFFSETFROM:-0500
TZOFFSETTO:-0400
TZNAME:EDT
DTSTART:20250309T070000
END:DAYLIGHT
BEGIN:STANDARD
TZOFFSETFROM:-0400
TZOFFSETTO:-0500
TZNAME:EST
DTSTART:20251102T060000
END:STANDARD
BEGIN:DAYLIGHT
TZOFFSETFROM:-0500
TZOFFSETTO:-0400
TZNAME:EDT
DTSTART:20260308T070000
END:DAYLIGHT
BEGIN:STANDARD
TZOFFSETFROM:-0400
TZOFFSETTO:-0500
TZNAME:EST
DTSTART:20261101T060000
END:STANDARD
BEGIN:DAYLIGHT
TZOFFSETFROM:-0500
TZOFFSETTO:-0400
TZNAME:EDT
DTSTART:20270314T070000
END:DAYLIGHT
BEGIN:STANDARD
TZOFFSETFROM:-0400
TZOFFSETTO:-0500
TZNAME:EST
DTSTART:20271107T060000
END:STANDARD
END:VTIMEZONE
BEGIN:VEVENT
DTSTART;TZID=America/New_York:20260214T193000
DTEND;TZID=America/New_York:20260214T213000
DTSTAMP:20260423T182123
CREATED:20250715T175117Z
LAST-MODIFIED:20250715T175117Z
UID:1952-1771097400-1771104600@dianewittry.com
SUMMARY:ASO Classical 3 - Emanuel Ax plays Beethoven
DESCRIPTION:Allentown Symphony Orchestra\nDiane Wittry\, Conductor\nEmanuel Ax\, Piano \nLudwig van Beethoven\nPiano Concerto No.  5 “Emperor”\nSergei Rachmaninoff\nSymphony No. 2
URL:https://dianewittry.com/event/aso-classical-3-emanuel-ax-plays-beethoven/
LOCATION:Allentown Symphony – Miller Symphony Hall\, 23 N. 6th Street\, Allentown\, PA\, 18103\, United States
ORGANIZER;CN="Allentown Symphony Orchestra":MAILTO:info@allentownsymphony.org
END:VEVENT
BEGIN:VEVENT
DTSTART;TZID=America/New_York:20260215T140000
DTEND;TZID=America/New_York:20260215T160000
DTSTAMP:20260423T182123
CREATED:20241116T215553Z
LAST-MODIFIED:20250715T174953Z
UID:1780-1771164000-1771171200@dianewittry.com
SUMMARY:ASO Classical 3 - Emanuel Ax plays Beethoven
DESCRIPTION:Allentown Symphony Orchestra\nDiane Wittry\, Conductor\nEmanuel Ax\, Piano \nLudwig van Beethoven\nPiano Concerto No.  5 “Emperor”\nSergei Rachmaninoff\nSymphony No. 2
URL:https://dianewittry.com/event/aso-classical-3-2/
LOCATION:Allentown Symphony – Miller Symphony Hall\, 23 N. 6th Street\, Allentown\, PA\, 18103\, United States
ORGANIZER;CN="Allentown Symphony Orchestra":MAILTO:info@allentownsymphony.org
END:VEVENT
END:VCALENDAR