BEGIN:VCALENDAR
VERSION:2.0
PRODID:-//Diane Wittry, Conductor - ECPv6.15.20//NONSGML v1.0//EN
CALSCALE:GREGORIAN
METHOD:PUBLISH
X-ORIGINAL-URL:https://dianewittry.com
X-WR-CALDESC:Events for Diane Wittry, Conductor
REFRESH-INTERVAL;VALUE=DURATION:PT1H
X-Robots-Tag:noindex
X-PUBLISHED-TTL:PT1H
BEGIN:VTIMEZONE
TZID:America/New_York
BEGIN:DAYLIGHT
TZOFFSETFROM:-0500
TZOFFSETTO:-0400
TZNAME:EDT
DTSTART:20250309T070000
END:DAYLIGHT
BEGIN:STANDARD
TZOFFSETFROM:-0400
TZOFFSETTO:-0500
TZNAME:EST
DTSTART:20251102T060000
END:STANDARD
BEGIN:DAYLIGHT
TZOFFSETFROM:-0500
TZOFFSETTO:-0400
TZNAME:EDT
DTSTART:20260308T070000
END:DAYLIGHT
BEGIN:STANDARD
TZOFFSETFROM:-0400
TZOFFSETTO:-0500
TZNAME:EST
DTSTART:20261101T060000
END:STANDARD
BEGIN:DAYLIGHT
TZOFFSETFROM:-0500
TZOFFSETTO:-0400
TZNAME:EDT
DTSTART:20270314T070000
END:DAYLIGHT
BEGIN:STANDARD
TZOFFSETFROM:-0400
TZOFFSETTO:-0500
TZNAME:EST
DTSTART:20271107T060000
END:STANDARD
END:VTIMEZONE
BEGIN:VEVENT
DTSTART;TZID=America/New_York:20260516T193000
DTEND;TZID=America/New_York:20260516T213000
DTSTAMP:20260423T164205
CREATED:20250715T171958Z
LAST-MODIFIED:20250715T174055Z
UID:1941-1778959800-1778967000@dianewittry.com
SUMMARY:ASO Classical 5 - Mahler's Titan
DESCRIPTION:Allentown Symphony Orchestra\nDiane Wittry\, Conductor\nErik Ralske\, Horn \nGrazyna Bacewicz\nOverture\nRichard Strauss\nHorn Concerto No. 1\nGustav Mahler\nSymphony No. 1 \n 
URL:https://dianewittry.com/event/aso-classical-5/
LOCATION:Allentown Symphony – Miller Symphony Hall\, 23 N. 6th Street\, Allentown\, PA\, 18103\, United States
ORGANIZER;CN="Allentown Symphony Orchestra":MAILTO:info@allentownsymphony.org
END:VEVENT
BEGIN:VEVENT
DTSTART;TZID=America/New_York:20260517T140000
DTEND;TZID=America/New_York:20260517T160000
DTSTAMP:20260423T164205
CREATED:20241116T220127Z
LAST-MODIFIED:20250715T173928Z
UID:1788-1779026400-1779033600@dianewittry.com
SUMMARY:ASO Classical 5 - Mahler's Titan
DESCRIPTION:Allentown Symphony Orchestra\nDiane Wittry\, Conductor\nErik Ralske\, Horn \nGrazyna Bacewicz\nOverture\nRichard Strauss\nHorn Concerto No. 1\nGustav Mahler\nSymphony No. 1 \n 
URL:https://dianewittry.com/event/aso-classical-5-2/
LOCATION:Allentown Symphony – Miller Symphony Hall\, 23 N. 6th Street\, Allentown\, PA\, 18103\, United States
ORGANIZER;CN="Allentown Symphony Orchestra":MAILTO:info@allentownsymphony.org
END:VEVENT
END:VCALENDAR