BEGIN:VCALENDAR
VERSION:2.0
PRODID:-//Diane Wittry, Conductor - ECPv6.15.20//NONSGML v1.0//EN
CALSCALE:GREGORIAN
METHOD:PUBLISH
X-ORIGINAL-URL:https://dianewittry.com
X-WR-CALDESC:Events for Diane Wittry, Conductor
REFRESH-INTERVAL;VALUE=DURATION:PT1H
X-Robots-Tag:noindex
X-PUBLISHED-TTL:PT1H
BEGIN:VTIMEZONE
TZID:UTC
BEGIN:STANDARD
TZOFFSETFROM:+0000
TZOFFSETTO:+0000
TZNAME:UTC
DTSTART:20230101T000000
END:STANDARD
END:VTIMEZONE
BEGIN:VEVENT
DTSTART;TZID=UTC:20240120T193000
DTEND;TZID=UTC:20240120T213000
DTSTAMP:20260425T204602
CREATED:20230908T192016Z
LAST-MODIFIED:20230908T192358Z
UID:1585-1705779000-1705786200@dianewittry.com
SUMMARY:Lush Life - the music of Duke Ellington and Billy Strayhorn
DESCRIPTION:LUSH LIFE – THE MUSIC OF DUKE ELLINGTON AND BILLY STRAYHORN.  Diane Wittry conducts the Allentown Symphony in the smooth\, seductive sound of Duke Ellington and those Billy Strayhorn standards: “Satin Doll\,” “Take the A Train\,” and more. It won’t mean a thing if you’re not there to swing!
URL:https://dianewittry.com/event/lush-life-the-music-of-duke-ellington-and-billy-strayhorn/
LOCATION:Allentown Symphony – Miller Symphony Hall\, 23 N. 6th Street\, Allentown\, PA\, 18103\, United States
END:VEVENT
END:VCALENDAR